BEGIN:VCALENDAR
VERSION:2.0
PRODID:-//Antsla Valla Kultuurikeskus - ECPv6.3.1//NONSGML v1.0//EN
CALSCALE:GREGORIAN
METHOD:PUBLISH
X-WR-CALNAME:Antsla Valla Kultuurikeskus
X-ORIGINAL-URL:https://antslakultuur.ee
X-WR-CALDESC:Events for Antsla Valla Kultuurikeskus
REFRESH-INTERVAL;VALUE=DURATION:PT1H
X-Robots-Tag:noindex
X-PUBLISHED-TTL:PT1H
BEGIN:VTIMEZONE
TZID:Europe/Helsinki
BEGIN:DAYLIGHT
TZOFFSETFROM:+0200
TZOFFSETTO:+0300
TZNAME:EEST
DTSTART:20220327T010000
END:DAYLIGHT
BEGIN:STANDARD
TZOFFSETFROM:+0300
TZOFFSETTO:+0200
TZNAME:EET
DTSTART:20221030T010000
END:STANDARD
END:VTIMEZONE
BEGIN:VEVENT
DTSTART;TZID=Europe/Helsinki:20220922T180000
DTEND;TZID=Europe/Helsinki:20220922T200000
DTSTAMP:20260422T204344
CREATED:20220907T111352Z
LAST-MODIFIED:20220907T111352Z
UID:786-1663869600-1663876800@antslakultuur.ee
SUMMARY:Kuulus või kummaline. Navitrolla.
DESCRIPTION:Antsla Kultuurikeskus alustab uue üritustesarjaga “Kuulus või kummaline”.\nNeljapäeval 22.09 tuleb meile külla Antsla vallas resideeruv kunstnik Navitrolla.\nAlustame õhtut piduliku Navitrolla hiigelmaali (4x2m) avamisega\, mis valmis festivali KontrastiKunst raames. Sellele järgneb vestlusring kunstnikuga ning kirsina tordil saavad kõik oma panuse anda ühismaali valmimisse\, mida juhendab otse loomulikult Navitrolla ise.\nÜritus on kõigile tasuta!
URL:https://antslakultuur.ee/event/kuulus-voi-kummaline-navitrolla/
LOCATION:Antsla Kultuurikeskus\, Kooli tee 19\, Antsla\, Võrumaa\, 66403\, Eesti
ATTACH;FMTTYPE=application/pdf:https://antslakultuur.ee/wp-content/uploads/2022/09/Kuulus-voi-kummaline_Navitrolla_A3.pdf
END:VEVENT
END:VCALENDAR