BEGIN:VCALENDAR
VERSION:2.0
PRODID:-//Antsla Valla Kultuurikeskus - ECPv6.3.1//NONSGML v1.0//EN
CALSCALE:GREGORIAN
METHOD:PUBLISH
X-WR-CALNAME:Antsla Valla Kultuurikeskus
X-ORIGINAL-URL:https://antslakultuur.ee
X-WR-CALDESC:Events for Antsla Valla Kultuurikeskus
REFRESH-INTERVAL;VALUE=DURATION:PT1H
X-Robots-Tag:noindex
X-PUBLISHED-TTL:PT1H
BEGIN:VTIMEZONE
TZID:Europe/Helsinki
BEGIN:DAYLIGHT
TZOFFSETFROM:+0200
TZOFFSETTO:+0300
TZNAME:EEST
DTSTART:20220327T010000
END:DAYLIGHT
BEGIN:STANDARD
TZOFFSETFROM:+0300
TZOFFSETTO:+0200
TZNAME:EET
DTSTART:20221030T010000
END:STANDARD
END:VTIMEZONE
BEGIN:VEVENT
DTSTART;TZID=Europe/Helsinki:20221001T110000
DTEND;TZID=Europe/Helsinki:20221001T150000
DTSTAMP:20260422T204246
CREATED:20220915T113413Z
LAST-MODIFIED:20220915T113413Z
UID:841-1664622000-1664636400@antslakultuur.ee
SUMMARY:3in1 ehk Muusika-\, Eakate ja Omavalitsustepäeva tähistamine Antslas.
DESCRIPTION:1. oktoober on oluline päev – tähistame lausa kolme sündmust: muusikapäeva\, eakate päeva ning omavalitsuste päeva.\n11.00 tervitavad Antsla elanikke külalised Setomaalt\, hoia Antsla kesklinnas liikudes silmad ja kõrvad lahti \nKell 12.00 algab programm Antsla Kultuurikeskuses. Kavas tervitused ning muusikalised etteasted.\nPärast kontserti avame pidulikult interaktiivse muusikalise seina\, mille on kokku pannud MTÜ Mondo ning mis jääb meie elanikke rõõmustama kuni uue aastani.\nSündmus on tasuta\, pakutakse ka kohvi ja kringlit!
URL:https://antslakultuur.ee/event/3in1-ehk-muusika-eakate-ja-omavalitsustepaeva-tahistamine-antslas/
LOCATION:Võrumaa
ATTACH;FMTTYPE=image/jpeg:https://antslakultuur.ee/wp-content/uploads/2022/09/Muusika-eakate-OV-paev_01-10-22_A3-01.jpg
END:VEVENT
END:VCALENDAR