BEGIN:VCALENDAR
VERSION:2.0
PRODID:-//Antsla Valla Kultuurikeskus - ECPv6.3.1//NONSGML v1.0//EN
CALSCALE:GREGORIAN
METHOD:PUBLISH
X-WR-CALNAME:Antsla Valla Kultuurikeskus
X-ORIGINAL-URL:https://antslakultuur.ee
X-WR-CALDESC:Events for Antsla Valla Kultuurikeskus
REFRESH-INTERVAL;VALUE=DURATION:PT1H
X-Robots-Tag:noindex
X-PUBLISHED-TTL:PT1H
BEGIN:VTIMEZONE
TZID:Europe/Helsinki
BEGIN:DAYLIGHT
TZOFFSETFROM:+0200
TZOFFSETTO:+0300
TZNAME:EEST
DTSTART:20220327T010000
END:DAYLIGHT
BEGIN:STANDARD
TZOFFSETFROM:+0300
TZOFFSETTO:+0200
TZNAME:EET
DTSTART:20221030T010000
END:STANDARD
END:VTIMEZONE
BEGIN:VEVENT
DTSTART;TZID=Europe/Helsinki:20221021T190000
DTEND;TZID=Europe/Helsinki:20221021T235500
DTSTAMP:20260422T221931
CREATED:20221011T112412Z
LAST-MODIFIED:20221011T112412Z
UID:882-1666378800-1666396500@antslakultuur.ee
SUMMARY:Tantsuõhtu Tsooru Rahvamajas. Esineb Lii Kättmann.
DESCRIPTION:Tähistame rahvamajade päeva meeleoluka tantsuõhtuga! Muusikat teeb Lii Kättmann. Avatud kohtvik.
URL:https://antslakultuur.ee/event/tantsuohtu-tsooru-rahvamajas-esineb-lii-kattmann/
LOCATION:Tsooru Rahvamaja\, Tsooru\, Antsla vald\, Võrumaa\, Eesti
ATTACH;FMTTYPE=image/jpeg:https://antslakultuur.ee/wp-content/uploads/2022/10/Rahvamaja_plakat_A3_Tsooru2-01.jpg
END:VEVENT
END:VCALENDAR