BEGIN:VCALENDAR
VERSION:2.0
PRODID:-//Antsla Valla Kultuurikeskus - ECPv6.3.1//NONSGML v1.0//EN
CALSCALE:GREGORIAN
METHOD:PUBLISH
X-ORIGINAL-URL:https://antslakultuur.ee
X-WR-CALDESC:Events for Antsla Valla Kultuurikeskus
REFRESH-INTERVAL;VALUE=DURATION:PT1H
X-Robots-Tag:noindex
X-PUBLISHED-TTL:PT1H
BEGIN:VTIMEZONE
TZID:Europe/Helsinki
BEGIN:DAYLIGHT
TZOFFSETFROM:+0200
TZOFFSETTO:+0300
TZNAME:EEST
DTSTART:20230326T010000
END:DAYLIGHT
BEGIN:STANDARD
TZOFFSETFROM:+0300
TZOFFSETTO:+0200
TZNAME:EET
DTSTART:20231029T010000
END:STANDARD
END:VTIMEZONE
BEGIN:VEVENT
DTSTART;TZID=Europe/Helsinki:20230308T190000
DTEND;TZID=Europe/Helsinki:20230308T210000
DTSTAMP:20260422T192408
CREATED:20230112T091721Z
LAST-MODIFIED:20230301T110018Z
UID:964-1678302000-1678309200@antslakultuur.ee
SUMMARY:Komöödiateatri etendus "Kui palju maksab mees?"
DESCRIPTION:Lõbus\, aga ka põnev lugu sellest\, kuidas mees seisab valiku ees: kumba naist eelistada\, kui mõlemad kallid on? Kuid siis teeb üks neist pakkumise\, mis paistab algul skandaalne\, aga millest on raske ära öelda. \nJa lahenduse saab ka küsimus\, kui palju siis maksab üks mees. Aga kas naine saab teda üldse endale osta ja mida mees ise sellest kõigest arvab? Kuidas ta sellest olukorrast välja vingerdab\, seda näete juba etendusel. \nKes viimasena naerab\, naerab paremini\, aga kõige viimasena naerab muidugi publik.\nSuvel müügitabeli tippu tõusnud Komöödiateatri lavastuses mängivad Juss Haasma\, Marika Korolev ja Karmel Naudre. \nEtendus on kahes vaatuses ja kestab umbes 2 tundi koos vaheajaga. \n  \nPiletid: https://www.piletilevi.ee/est/piletid/teater/draama/komoodiateatri-etendus-kui-palju-maksab-mees-380257/
URL:https://antslakultuur.ee/event/komoodiateatri-etendus-kui-palju-maksab-mees/
LOCATION:Antsla Kultuurikeskus\, Kooli tee 19\, Antsla\, Võrumaa\, 66403\, Eesti
ATTACH;FMTTYPE=image/jpeg:https://antslakultuur.ee/wp-content/uploads/2023/01/Kui-palju-maksab-mees_plakat-WEB-01.jpg
ORGANIZER;CN="Antsla Kultuurikeskus":MAILTO:kultuur@antsla.ee
END:VEVENT
END:VCALENDAR