BEGIN:VCALENDAR
VERSION:2.0
PRODID:-//Antsla Valla Kultuurikeskus - ECPv6.3.1//NONSGML v1.0//EN
CALSCALE:GREGORIAN
METHOD:PUBLISH
X-WR-CALNAME:Antsla Valla Kultuurikeskus
X-ORIGINAL-URL:https://antslakultuur.ee
X-WR-CALDESC:Events for Antsla Valla Kultuurikeskus
REFRESH-INTERVAL;VALUE=DURATION:PT1H
X-Robots-Tag:noindex
X-PUBLISHED-TTL:PT1H
BEGIN:VTIMEZONE
TZID:Europe/Helsinki
BEGIN:DAYLIGHT
TZOFFSETFROM:+0200
TZOFFSETTO:+0300
TZNAME:EEST
DTSTART:20230326T010000
END:DAYLIGHT
BEGIN:STANDARD
TZOFFSETFROM:+0300
TZOFFSETTO:+0200
TZNAME:EET
DTSTART:20231029T010000
END:STANDARD
END:VTIMEZONE
BEGIN:VEVENT
DTSTART;TZID=Europe/Helsinki:20230309T093000
DTEND;TZID=Europe/Helsinki:20230309T113000
DTSTAMP:20260422T192409
CREATED:20230223T093827Z
LAST-MODIFIED:20230223T093827Z
UID:989-1678354200-1678361400@antslakultuur.ee
SUMMARY:Doonoripäev Antslas.
DESCRIPTION:Tule tee head ja päästa elusid! \nDoonoripäev Antsla Kultuurikeskuse spordisaalis.
URL:https://antslakultuur.ee/event/doonoripaev-antslas/
LOCATION:Antsla Kultuurikeskus\, Kooli tee 19\, Antsla\, Võrumaa\, 66403\, Eesti
ATTACH;FMTTYPE=image/png:https://antslakultuur.ee/wp-content/uploads/2023/02/antsla.png
END:VEVENT
END:VCALENDAR