BEGIN:VCALENDAR
VERSION:2.0
PRODID:-//Antsla Valla Kultuurikeskus - ECPv6.3.1//NONSGML v1.0//EN
CALSCALE:GREGORIAN
METHOD:PUBLISH
X-ORIGINAL-URL:https://antslakultuur.ee
X-WR-CALDESC:Events for Antsla Valla Kultuurikeskus
REFRESH-INTERVAL;VALUE=DURATION:PT1H
X-Robots-Tag:noindex
X-PUBLISHED-TTL:PT1H
BEGIN:VTIMEZONE
TZID:Europe/Helsinki
BEGIN:DAYLIGHT
TZOFFSETFROM:+0200
TZOFFSETTO:+0300
TZNAME:EEST
DTSTART:20230326T010000
END:DAYLIGHT
BEGIN:STANDARD
TZOFFSETFROM:+0300
TZOFFSETTO:+0200
TZNAME:EET
DTSTART:20231029T010000
END:STANDARD
END:VTIMEZONE
BEGIN:VEVENT
DTSTART;TZID=Europe/Helsinki:20230311T120000
DTEND;TZID=Europe/Helsinki:20230311T150000
DTSTAMP:20260422T192525
CREATED:20230301T104513Z
LAST-MODIFIED:20230307T085635Z
UID:1055-1678536000-1678546800@antslakultuur.ee
SUMMARY:Portselanmaali töötuba
DESCRIPTION:Ootame portselanmaali õpituppa! \nSel korral kaunistame taldriku või tassi kenade kevadiste õitega – tulpide või moonidega.\nKohapeal olemas vajalikud vahendid\, toorikud (taldrikud\, tassid) alates 1-2 eurost. \nKõik on oodatud! Eelnev kogemus ega joonistamisoskus ei ole vajalikud. \nKoolitus toimub rahvamaja saali rõdul (sisenemine peauksest ja fuajeest trepist üles). Palume kaasa võtta sisejalanõud. \nOsalustasu 5 eurot + valitud portselantooriku hind \nPalume eelnevalt registreeruda tel 56686466.
URL:https://antslakultuur.ee/event/portselanmaali-tootuba-tulbid/
LOCATION:Uue-Antsla Rahvamaja\, Uue-Antsla\, Antsla vald\, Võrumaa\, Eesti
CATEGORIES:koolitus
ATTACH;FMTTYPE=image/jpeg:https://antslakultuur.ee/wp-content/uploads/2023/03/Opitoad-marts-2023-02.jpg
END:VEVENT
BEGIN:VEVENT
DTSTART;TZID=Europe/Helsinki:20230311T190000
DTEND;TZID=Europe/Helsinki:20230311T233000
DTSTAMP:20260422T192525
CREATED:20230301T105446Z
LAST-MODIFIED:20230301T105446Z
UID:1059-1678561200-1678577400@antslakultuur.ee
SUMMARY:Tsooru Külateatri esietendus "Ka N(L)aine on inimene".Pidu retroansambliga Cantare
DESCRIPTION:
URL:https://antslakultuur.ee/event/tsooru-kulateatri-esietendus-ka-nlaine-on-inimene-pidu-retroansambliga-cantare/
LOCATION:Tsooru Rahvamaja\, Tsooru\, Antsla vald\, Võrumaa\, Eesti
CATEGORIES:Tantsuõhtu,Teater
ATTACH;FMTTYPE=image/jpeg:https://antslakultuur.ee/wp-content/uploads/2023/03/Ka-naine-on-inimene_A3-02.jpg
END:VEVENT
END:VCALENDAR