BEGIN:VCALENDAR
VERSION:2.0
PRODID:-//Antsla Valla Kultuurikeskus - ECPv6.3.1//NONSGML v1.0//EN
CALSCALE:GREGORIAN
METHOD:PUBLISH
X-WR-CALNAME:Antsla Valla Kultuurikeskus
X-ORIGINAL-URL:https://antslakultuur.ee
X-WR-CALDESC:Events for Antsla Valla Kultuurikeskus
REFRESH-INTERVAL;VALUE=DURATION:PT1H
X-Robots-Tag:noindex
X-PUBLISHED-TTL:PT1H
BEGIN:VTIMEZONE
TZID:Europe/Helsinki
BEGIN:DAYLIGHT
TZOFFSETFROM:+0200
TZOFFSETTO:+0300
TZNAME:EEST
DTSTART:20230326T010000
END:DAYLIGHT
BEGIN:STANDARD
TZOFFSETFROM:+0300
TZOFFSETTO:+0200
TZNAME:EET
DTSTART:20231029T010000
END:STANDARD
END:VTIMEZONE
BEGIN:VEVENT
DTSTART;TZID=Europe/Helsinki:20230312T130000
DTEND;TZID=Europe/Helsinki:20230312T170000
DTSTAMP:20260422T192410
CREATED:20230307T090548Z
LAST-MODIFIED:20230307T090548Z
UID:1112-1678626000-1678640400@antslakultuur.ee
SUMMARY:Araabia toidutöötuba ja kultuuribrunch
DESCRIPTION:Küsimus “kes on araablased ja mis toitu nad söövad?” on lihtsam küsida\, kui vastata. Põhja-Aafrika\, Lähis-Ida\, Pärsia lahe alad – kõik kokku on see rohkem kui 13 miljonit ruutkilomeetrit\, kuhu mahub nii mererannikuid kui oliivisalusid\, viljakat maad kui ka kõrbeid\, ning väga erinevaid traditsioonide. Sellest kõigest on sündinud tõeliselt rikkalik köök\, mis on levinud üle maailma.\nMeie seekordne kultuuribrunch annab võimaluse tutvuda selle põneva piirkonnaga sealt pärit inimeste kaudu. Ja loomulikult maitseelamuste kaudu!\nLisaks kõigele saab seda teha täiesti tasuta!\n\nRegistreeru\, kuni kohti on!\n13:00-15.30 TOIDUTÖÖTUBA (vajalik registreerumine)\nValmistame koos tuneesia\, egiptuse ja palestiina roogasid\, et oskaksid hiljem neid ka ise teha!\n15:45-17:00 KULTUURIBRUNCH (vajalik registreerumine)\nBrunch on kahe ingliskeelse toidukorra kokkupanemisel saadud sõna (breakfast ehk hommikusöök ja lunch ehk lõuna).\nBrunch´il saad maitsta toidutöötoas valminut ja kuulda\, kuidas nende maade ajaloost ja tänapäevast.\n\nREGISTREERUMINE:\nhttps://docs.google.com/forms/d/e/1FAIpQLSdXnGhFLtZDy4PYvGNV02XsPyQqgz55sxshaTb1wRlaB_GU2w/viewform?fbclid=IwAR3R908ts4_-oISZFK33eu0_wQF9rYegy6uqvl7HY-Jbvad9GsdZDNQeBdQ\n\nvõi registreeru telefoni teel (51 32 891\, Tartu Rahvusvaheline Maja)\n\nAraabia kultuuribrunch on sarja kuues brunch! Eelmised brunchid olid: Jaapani\, Ukraina\, Iraani\, Ghana ja Hiina.\nMaailma Maaliin on osa Euroopa kultuuripealinn Tartu 2024 põhiprogrammist.
URL:https://antslakultuur.ee/event/araabia-toidutootuba-ja-kultuuribrunch/
LOCATION:Uue-Antsla Rahvamaja\, Uue-Antsla\, Antsla vald\, Võrumaa\, Eesti
ATTACH;FMTTYPE=image/jpeg:https://antslakultuur.ee/wp-content/uploads/2023/03/Araabia-kultuuribrunch-01.jpg
END:VEVENT
END:VCALENDAR