BEGIN:VCALENDAR
VERSION:2.0
PRODID:-//Antsla Valla Kultuurikeskus - ECPv6.3.1//NONSGML v1.0//EN
CALSCALE:GREGORIAN
METHOD:PUBLISH
X-WR-CALNAME:Antsla Valla Kultuurikeskus
X-ORIGINAL-URL:https://antslakultuur.ee
X-WR-CALDESC:Events for Antsla Valla Kultuurikeskus
REFRESH-INTERVAL;VALUE=DURATION:PT1H
X-Robots-Tag:noindex
X-PUBLISHED-TTL:PT1H
BEGIN:VTIMEZONE
TZID:Europe/Helsinki
BEGIN:DAYLIGHT
TZOFFSETFROM:+0200
TZOFFSETTO:+0300
TZNAME:EEST
DTSTART:20230326T010000
END:DAYLIGHT
BEGIN:STANDARD
TZOFFSETFROM:+0300
TZOFFSETTO:+0200
TZNAME:EET
DTSTART:20231029T010000
END:STANDARD
END:VTIMEZONE
BEGIN:VEVENT
DTSTART;TZID=Europe/Helsinki:20230321T180000
DTEND;TZID=Europe/Helsinki:20230321T190000
DTSTAMP:20260422T192411
CREATED:20230228T142047Z
LAST-MODIFIED:20230228T142047Z
UID:1034-1679421600-1679425200@antslakultuur.ee
SUMMARY:Vallavillak
DESCRIPTION:Meelelahutuslik mälumäng\, kus saad oma teadmisi proovile panna erinevatel teemadel.
URL:https://antslakultuur.ee/event/vallavillak-12/
LOCATION:Võrumaa
ATTACH;FMTTYPE=image/jpeg:https://antslakultuur.ee/wp-content/uploads/2023/02/VALLAVILLAK2023.jpg
END:VEVENT
END:VCALENDAR