BEGIN:VCALENDAR
VERSION:2.0
PRODID:-//Antsla Valla Kultuurikeskus - ECPv6.3.1//NONSGML v1.0//EN
CALSCALE:GREGORIAN
METHOD:PUBLISH
X-WR-CALNAME:Antsla Valla Kultuurikeskus
X-ORIGINAL-URL:https://antslakultuur.ee
X-WR-CALDESC:Events for Antsla Valla Kultuurikeskus
REFRESH-INTERVAL;VALUE=DURATION:PT1H
X-Robots-Tag:noindex
X-PUBLISHED-TTL:PT1H
BEGIN:VTIMEZONE
TZID:Europe/Helsinki
BEGIN:DAYLIGHT
TZOFFSETFROM:+0200
TZOFFSETTO:+0300
TZNAME:EEST
DTSTART:20230326T010000
END:DAYLIGHT
BEGIN:STANDARD
TZOFFSETFROM:+0300
TZOFFSETTO:+0200
TZNAME:EET
DTSTART:20231029T010000
END:STANDARD
END:VTIMEZONE
BEGIN:VEVENT
DTSTART;TZID=Europe/Helsinki:20230322T110000
DTEND;TZID=Europe/Helsinki:20230322T130000
DTSTAMP:20260422T192409
CREATED:20230301T110748Z
LAST-MODIFIED:20230307T084533Z
UID:1071-1679482800-1679490000@antslakultuur.ee
SUMMARY:Rahatarkuse koolitus eakatele
DESCRIPTION:22. märtsil tuleb Uue-Antsla rahvamajja rahatarkuse teemadel rääkima pikaajaliste kogemustega majandusnõustaja Annika Rau.\n\n❗️kell 11.00 (eelkõige eakatele suunatud teemadega\, vajadusel organiseerime Antslast bussi\, kuid palume oma transpordivajadusest teada anda allpoolt toodud kontaktidel)\n\nTeema on väga aktuaalne – kuidas toimub pärimine\, kuidas tänapäeval üldse toime tulla\, kuidas paremini planeerida jmt.\n\nPalun infot igal heal moel jagada ja eakate puhul anda teada\, kas on vajalik transpordi korraldus Antslast Uue-Antslasse.\n\n—\nKorraldaja kontaktid:\nPille Raudam\nHaridusnõunik\ntel: 78 28 622\, mob: 53015032\nAntsla vallavalitsus
URL:https://antslakultuur.ee/event/rahatarkuse-koolitus-eakatele/
LOCATION:Uue-Antsla Rahvamaja\, Uue-Antsla\, Antsla vald\, Võrumaa\, Eesti
CATEGORIES:koolitus
ATTACH;FMTTYPE=image/jpeg:https://antslakultuur.ee/wp-content/uploads/2023/03/rahatarkus-eakatele.jpg
END:VEVENT
BEGIN:VEVENT
DTSTART;TZID=Europe/Helsinki:20230322T173000
DTEND;TZID=Europe/Helsinki:20230322T190000
DTSTAMP:20260422T192409
CREATED:20230307T084823Z
LAST-MODIFIED:20230307T084823Z
UID:1067-1679506200-1679511600@antslakultuur.ee
SUMMARY:Rahatarkuse koolitus
DESCRIPTION:22. märtsil tuleb Uue-Antsla rahvamajja rahatarkuse teemadel rääkima pikaajaliste kogemustega majandusnõustaja Annika Rau.\n\nToimub kaks koolitust\, et võimaldada parem ligipääs erinevatele sihtgruppidele:\n\n❗️kell 11.00 (eelkõige eakatele suunatud teemadega\, vajadusel organiseerime Antslast bussi\, kuid palume oma transpordivajadusest teada anda allpoolt toodud kontaktidel)\n\nÕhtupoolne koolitus toimub\n❗️kell 17.30\n\nTeema on väga aktuaalne – kuidas toimub pärimine\, kuidas tänapäeval üldse toime tulla\, kuidas paremini planeerida jmt.\n\nPalun infot igal heal moel jagada ja eakate puhul anda teada\, kas on vajalik transpordi korraldus Antslast Uue-Antslasse.\n\n—\nKorraldaja kontaktid:\nPille Raudam\nHaridusnõunik\ntel: 78 28 622\, mob: 53015032\nAntsla vallavalitsus
URL:https://antslakultuur.ee/event/rahatarkuse-koolitus/
LOCATION:Uue-Antsla Rahvamaja\, Uue-Antsla\, Antsla vald\, Võrumaa\, Eesti
CATEGORIES:koolitus
ATTACH;FMTTYPE=image/jpeg:https://antslakultuur.ee/wp-content/uploads/2023/03/rahatarkus-elanikele.jpg
END:VEVENT
END:VCALENDAR