BEGIN:VCALENDAR
VERSION:2.0
PRODID:-//Antsla Valla Kultuurikeskus - ECPv6.3.1//NONSGML v1.0//EN
CALSCALE:GREGORIAN
METHOD:PUBLISH
X-WR-CALNAME:Antsla Valla Kultuurikeskus
X-ORIGINAL-URL:https://antslakultuur.ee
X-WR-CALDESC:Events for Antsla Valla Kultuurikeskus
REFRESH-INTERVAL;VALUE=DURATION:PT1H
X-Robots-Tag:noindex
X-PUBLISHED-TTL:PT1H
BEGIN:VTIMEZONE
TZID:Europe/Helsinki
BEGIN:DAYLIGHT
TZOFFSETFROM:+0200
TZOFFSETTO:+0300
TZNAME:EEST
DTSTART:20230326T010000
END:DAYLIGHT
BEGIN:STANDARD
TZOFFSETFROM:+0300
TZOFFSETTO:+0200
TZNAME:EET
DTSTART:20231029T010000
END:STANDARD
END:VTIMEZONE
BEGIN:VEVENT
DTSTART;TZID=Europe/Helsinki:20230323T150000
DTEND;TZID=Europe/Helsinki:20230323T190000
DTSTAMP:20260422T192410
CREATED:20230227T072858Z
LAST-MODIFIED:20230227T081558Z
UID:1002-1679583600-1679598000@antslakultuur.ee
SUMMARY:Sügismeloodia 30
DESCRIPTION:23 märts tähistab Antsla Kultuurikeskuses tegutsev eakateklubi Sügismeloodia oma 30 aasta juubelit. \nSügismeloodia liikmed laulavad\, tantsivad ja mängivad pilli ning käivad koos iga nädal. \nTule sünnipäevale! \n 
URL:https://antslakultuur.ee/event/sugismeloodia-30/
LOCATION:Antsla Kultuurikeskus\, Kooli tee 19\, Antsla\, Võrumaa\, 66403\, Eesti
ATTACH;FMTTYPE=image/jpeg:https://antslakultuur.ee/wp-content/uploads/2023/02/Kutse_Sugismeloodia-30-01.jpg
ORGANIZER;CN="Antsla Kultuurikeskus":MAILTO:kultuur@antsla.ee
END:VEVENT
BEGIN:VEVENT
DTSTART;TZID=Europe/Helsinki:20230323T190000
DTEND;TZID=Europe/Helsinki:20230323T203000
DTSTAMP:20260422T192410
CREATED:20230301T111719Z
LAST-MODIFIED:20230301T111719Z
UID:1073-1679598000-1679603400@antslakultuur.ee
SUMMARY:Kino \,\,Kapten Volkonogovi põgenemine"
DESCRIPTION:Kapten Fjodor Volkonogov\, austatud ja sõnakuulekas nõukogude korrakaitsja\, näeb kogemata pealt\, kuidas ta kolleege on asutud kahtlasel moel küsitlema. Aimates\, et tema enda kord on varsti käes\, otsustab ta põgeneda ning on varsti tagaaetav\, keda üritavad tabada ta endised kaaslased. Haavatava ja lootuse kaotanuna saab Fjodor aru\, millises vägivallaskeemis ta on osaline olnud. Ühtäkki saab ta teate põrgust: pärast surma on ta määratud igavestesse piinadesse. Ainus viis seda vältida\, on kahetseda pattu ja leida vähemalt üks inimene\, kes talle andestab. Aeg hakkab aga lõppema ja inimjaht jõuab üha lähemale… \nŽanr: Draama\, triller\, põnevus\, õudusfilm \nRežissöör: Nataša Merkulova\, Aleksey Chupov\nTootja: Homeless Bob Production \nalla 12a. mittesoovitatav
URL:https://antslakultuur.ee/event/kino-kapten-volkonogovi-pogenemine/
LOCATION:Tsooru Rahvamaja\, Tsooru\, Antsla vald\, Võrumaa\, Eesti
CATEGORIES:Kino
ATTACH;FMTTYPE=image/jpeg:https://antslakultuur.ee/wp-content/uploads/2023/03/Kino-plakatid-2023-02.jpg
END:VEVENT
END:VCALENDAR