BEGIN:VCALENDAR
VERSION:2.0
PRODID:-//Antsla Valla Kultuurikeskus - ECPv6.3.1//NONSGML v1.0//EN
CALSCALE:GREGORIAN
METHOD:PUBLISH
X-WR-CALNAME:Antsla Valla Kultuurikeskus
X-ORIGINAL-URL:https://antslakultuur.ee
X-WR-CALDESC:Events for Antsla Valla Kultuurikeskus
REFRESH-INTERVAL;VALUE=DURATION:PT1H
X-Robots-Tag:noindex
X-PUBLISHED-TTL:PT1H
BEGIN:VTIMEZONE
TZID:Europe/Helsinki
BEGIN:DAYLIGHT
TZOFFSETFROM:+0200
TZOFFSETTO:+0300
TZNAME:EEST
DTSTART:20230326T010000
END:DAYLIGHT
BEGIN:STANDARD
TZOFFSETFROM:+0300
TZOFFSETTO:+0200
TZNAME:EET
DTSTART:20231029T010000
END:STANDARD
END:VTIMEZONE
BEGIN:VEVENT
DTSTART;TZID=Europe/Helsinki:20230408T120000
DTEND;TZID=Europe/Helsinki:20230408T133000
DTSTAMP:20260422T173408
CREATED:20230403T100709Z
LAST-MODIFIED:20230403T100709Z
UID:1191-1680955200-1680960600@antslakultuur.ee
SUMMARY:Munade värvimine looduslike materjalidega
DESCRIPTION:8. aprillil teeme pühad värvilisemaks looduslike värvidega – sibulakoored\, munad\, rohulibled jmt. \nOotame mune värvima eriti lapsi\, kellega koos katsetada traditsioonilisel moel munade värvimist. \nVõta kodust kaasa sibulakoori\, mustikaid\, erksavärvilist lõnga
URL:https://antslakultuur.ee/event/munade-varvimine-looduslike-materjalidega/
LOCATION:Uue-Antsla Rahvamaja\, Uue-Antsla\, Antsla vald\, Võrumaa\, Eesti
CATEGORIES:koolitus
ATTACH;FMTTYPE=image/jpeg:https://antslakultuur.ee/wp-content/uploads/2023/04/337694230_528360492802450_7262413661299547547_n.jpg
END:VEVENT
END:VCALENDAR