BEGIN:VCALENDAR
VERSION:2.0
PRODID:-//Antsla Valla Kultuurikeskus - ECPv6.3.1//NONSGML v1.0//EN
CALSCALE:GREGORIAN
METHOD:PUBLISH
X-WR-CALNAME:Antsla Valla Kultuurikeskus
X-ORIGINAL-URL:https://antslakultuur.ee
X-WR-CALDESC:Events for Antsla Valla Kultuurikeskus
REFRESH-INTERVAL;VALUE=DURATION:PT1H
X-Robots-Tag:noindex
X-PUBLISHED-TTL:PT1H
BEGIN:VTIMEZONE
TZID:Europe/Helsinki
BEGIN:DAYLIGHT
TZOFFSETFROM:+0200
TZOFFSETTO:+0300
TZNAME:EEST
DTSTART:20230326T010000
END:DAYLIGHT
BEGIN:STANDARD
TZOFFSETFROM:+0300
TZOFFSETTO:+0200
TZNAME:EET
DTSTART:20231029T010000
END:STANDARD
END:VTIMEZONE
BEGIN:VEVENT
DTSTART;TZID=Europe/Helsinki:20230412T180000
DTEND;TZID=Europe/Helsinki:20230412T200000
DTSTAMP:20260422T173407
CREATED:20230317T132125Z
LAST-MODIFIED:20230317T132125Z
UID:1142-1681322400-1681329600@antslakultuur.ee
SUMMARY:Aianduskoolitus Kristiina Kikkasega
DESCRIPTION:Kursus sisaldab koolitusmaterjale\, mis on köidetud\, värvilised\, pildimaterjal ja põhipunktid koolitusel toimunust.\n\nINFO ja REGISTREERIMINE:\nkultuur@antsla.ee\n55648348\n\nTeemad:\n12.04.2023\n* Milliseid pinnakatteid aias kasutada?\n* Kuidas kujundada peenra servad?\n* Kuidas vähendada väetiste ja kahjuritõrje vahendite kasutamist?\n*Viljavaheldus/seltsilistaimed\n\nKes on Kristiina Kikkas?\nOlles paarkümmend aastat hobiaednik ja omandanud praktilisi kogemusi\, viis soov aiandusest rohkem teada ning kõike teadlikumalt ja lihtsamalt teha\, õppima Räpina Aianduskooli\, kus omandasin maastikuehitaja eriala ja Hiiumaa Ametikooli linnaaedniku erialale. Mul on 4. tase aianduses.\nTänavu asutasin oma ettevõtte Kristiina Iluaed OÜ\, mis peamiselt tegeleb aiaprojektide koostamisega ja aiandusalase nõustamisega.
URL:https://antslakultuur.ee/event/aianduskoolitus-kristiina-kikkasega-2/
LOCATION:Antsla Kultuurikeskus\, Kooli tee 19\, Antsla\, Võrumaa\, 66403\, Eesti
CATEGORIES:koolitus
ATTACH;FMTTYPE=image/jpeg:https://antslakultuur.ee/wp-content/uploads/2023/02/Aianduskolitused_03-04-2023-02.jpg
END:VEVENT
END:VCALENDAR