BEGIN:VCALENDAR
VERSION:2.0
PRODID:-//Antsla Valla Kultuurikeskus - ECPv6.3.1//NONSGML v1.0//EN
CALSCALE:GREGORIAN
METHOD:PUBLISH
X-ORIGINAL-URL:https://antslakultuur.ee
X-WR-CALDESC:Events for Antsla Valla Kultuurikeskus
REFRESH-INTERVAL;VALUE=DURATION:PT1H
X-Robots-Tag:noindex
X-PUBLISHED-TTL:PT1H
BEGIN:VTIMEZONE
TZID:Europe/Helsinki
BEGIN:DAYLIGHT
TZOFFSETFROM:+0200
TZOFFSETTO:+0300
TZNAME:EEST
DTSTART:20230326T010000
END:DAYLIGHT
BEGIN:STANDARD
TZOFFSETFROM:+0300
TZOFFSETTO:+0200
TZNAME:EET
DTSTART:20231029T010000
END:STANDARD
END:VTIMEZONE
BEGIN:VEVENT
DTSTART;TZID=Europe/Helsinki:20230416T120000
DTEND;TZID=Europe/Helsinki:20230416T143000
DTSTAMP:20260422T173437
CREATED:20230410T162112Z
LAST-MODIFIED:20230410T162316Z
UID:1203-1681646400-1681655400@antslakultuur.ee
SUMMARY:KEVADINE PEREPÄEV vesnyankade\, tantsu\, näituse avamise\, matka ja meisterdamisega
DESCRIPTION:* Avame Urvaste Koduloomuuseumi näituse “Kotid ja peakatted läbi aegade”.\nNäitust on võimalik vaadata veel ka 22. ja 23. aprillil kell 12-16\nja kokkuleppelistel aegadel.\n\n* Võimalik on meisterdada endale armas päevalille ripats\, mille saab riputada koti või mütsi külge.\n\n* Teeme väiksese kevadmatka koos loodusgiid Tuuli Merimaaga\, kes tutvustab meile kevadisi kasulikke taimi.\n\n* Saame osa ukrainlaste kevade tervituse kontserdist.\n\n* Kinnitame keha rahvuslike suupistetega ja maitsva taimeteega.\n\nOled oodatud osa saama!\n\n\nВідкриття виставки і зустрічання весни\n16 квітня о 12.00\nЗустрічаємо весну чарівливими\nУКРАЇНСЬКИМИ ВЕСНЯНКАМИ І ТАНЦЯМИ\n\nКраєзнавчий музей Урвасте\nВІДКРИТТЯ ВИСТАВКИ\nСумки і головні убори крізь часи\n\nНЕВЕЛИЧКА ПРОГУЛЯНКА\nз екскурсоводом Туулі Мерімаа\, яка познайомить нас з цілющими і поживними рослинами\n\nВИГОТОВЛЕННЯ КУЛОНІВ-СОНЯШНИКІВ\nПРИГОЩАННЯ НАРОДНИМИ ЗАКУСКАМИ\nБЕЗКОШТОВНО\nМови заходу: естонська\, українська та російська\n\n\nToimumist toetab ÜRO Pagulaste Ülemvoliniku Ameti (UNHCR) rahastatud Mondo projekt „Sunnitud rändEST: Katkestatud teekonnad\, uued algused”
URL:https://antslakultuur.ee/event/kevadine-perepaev-vesnyankade-tantsu-naituse-avamise-matka-ja-meisterdamisega/
LOCATION:Uue-Antsla Rahvamaja\, Uue-Antsla\, Antsla vald\, Võrumaa\, Eesti
ATTACH;FMTTYPE=image/jpeg:https://antslakultuur.ee/wp-content/uploads/2023/04/Naitus-matk-kontsert-01.jpg
END:VEVENT
END:VCALENDAR