BEGIN:VCALENDAR
VERSION:2.0
PRODID:-//Antsla Valla Kultuurikeskus - ECPv6.3.1//NONSGML v1.0//EN
CALSCALE:GREGORIAN
METHOD:PUBLISH
X-WR-CALNAME:Antsla Valla Kultuurikeskus
X-ORIGINAL-URL:https://antslakultuur.ee
X-WR-CALDESC:Events for Antsla Valla Kultuurikeskus
REFRESH-INTERVAL;VALUE=DURATION:PT1H
X-Robots-Tag:noindex
X-PUBLISHED-TTL:PT1H
BEGIN:VTIMEZONE
TZID:Europe/Helsinki
BEGIN:DAYLIGHT
TZOFFSETFROM:+0200
TZOFFSETTO:+0300
TZNAME:EEST
DTSTART:20230326T010000
END:DAYLIGHT
BEGIN:STANDARD
TZOFFSETFROM:+0300
TZOFFSETTO:+0200
TZNAME:EET
DTSTART:20231029T010000
END:STANDARD
END:VTIMEZONE
BEGIN:VEVENT
DTSTART;TZID=Europe/Helsinki:20230420T180000
DTEND;TZID=Europe/Helsinki:20230420T193000
DTSTAMP:20260422T173408
CREATED:20230321T235013Z
LAST-MODIFIED:20230404T102137Z
UID:1163-1682013600-1682019000@antslakultuur.ee
SUMMARY:Jürikuu Liigutused
DESCRIPTION:Liikumisaasta kutsub Sind osalema! \nAktiivse liikumise osalemise osavõtuks pane kokku meeskond\, kellest igaüks valmis erinevaks tegevuseks: \n\nkõndima\nkepikõndi tegema\njooksma\njalgrattaga sõitma\n\n 
URL:https://antslakultuur.ee/event/jurikuu-liigutused/
LOCATION:Antsla Kultuurikeskus\, Kooli tee 19\, Antsla\, Võrumaa\, 66403\, Eesti
CATEGORIES:Muu
ATTACH;FMTTYPE=image/jpeg:https://antslakultuur.ee/wp-content/uploads/2023/03/JURIKUU-LIIGUTUSED.jpg
ORGANIZER;CN="Antsla Kultuurikeskus":MAILTO:kultuur@antsla.ee
END:VEVENT
END:VCALENDAR