BEGIN:VCALENDAR
VERSION:2.0
PRODID:-//Antsla Valla Kultuurikeskus - ECPv6.3.1//NONSGML v1.0//EN
CALSCALE:GREGORIAN
METHOD:PUBLISH
X-ORIGINAL-URL:https://antslakultuur.ee
X-WR-CALDESC:Events for Antsla Valla Kultuurikeskus
REFRESH-INTERVAL;VALUE=DURATION:PT1H
X-Robots-Tag:noindex
X-PUBLISHED-TTL:PT1H
BEGIN:VTIMEZONE
TZID:Europe/Helsinki
BEGIN:DAYLIGHT
TZOFFSETFROM:+0200
TZOFFSETTO:+0300
TZNAME:EEST
DTSTART:20230326T010000
END:DAYLIGHT
BEGIN:STANDARD
TZOFFSETFROM:+0300
TZOFFSETTO:+0200
TZNAME:EET
DTSTART:20231029T010000
END:STANDARD
END:VTIMEZONE
BEGIN:VEVENT
DTSTART;TZID=Europe/Helsinki:20230421T150000
DTEND;TZID=Europe/Helsinki:20230531T170000
DTSTAMP:20260422T155147
CREATED:20230419T085019Z
LAST-MODIFIED:20230419T085019Z
UID:1240-1682089200-1685552400@antslakultuur.ee
SUMMARY:Näitus "Kõva kivi pehmus. Aado Algvere ehtekunst"
DESCRIPTION:Aado Algvere on juveliir ja metallikunstnik\, kes elab ja töötab Hiiumaal. Tema eriline ja loov lähenemine pool- vääriskividele\, mida tegelikult kõikjal Eestis leida võib\, on temast teinud hinnatud ja armastatud ehtekunstniku. \nFotonäitusel on Hiiumaa daamid kandmas hiiumaist Aado Algvere ehtekunsti. Fotod pildistas Kerttu Kruusla. \nVaata ka: https://www.facebook.com/Algvere.Jewellery
URL:https://antslakultuur.ee/event/naitus-kova-kivi-pehmus-aado-algvere-ehtekunst/
LOCATION:Antsla Kultuurikeskus\, Kooli tee 19\, Antsla\, Võrumaa\, 66403\, Eesti
CATEGORIES:Näitus
ATTACH;FMTTYPE=application/pdf:https://antslakultuur.ee/wp-content/uploads/2023/04/Hiiumaa_plakat_Antsla.pdf
ORGANIZER;CN="Antsla Kultuurikeskus":MAILTO:kultuur@antsla.ee
END:VEVENT
BEGIN:VEVENT
DTSTART;TZID=Europe/Helsinki:20230521T090000
DTEND;TZID=Europe/Helsinki:20230521T140000
DTSTAMP:20260422T155147
CREATED:20230330T090426Z
LAST-MODIFIED:20230330T090426Z
UID:1188-1684659600-1684677600@antslakultuur.ee
SUMMARY:Tsooru Kevadlaat
DESCRIPTION:Traditsiooniline Tsooru Kevadlaat toimub sel aastal 21. mail Tsooru rahvamaja juures.\n\nLaadaprogramm\, elav muusika\, tegevused lastele\, ostlemis- ja kauplemisrõõmu nii noortele kui vanadele.\n\nTULE MÜÜMA: registreeri oma müügipunkt: 58534682 (Krista)
URL:https://antslakultuur.ee/event/tsooru-kevadlaat-2/
LOCATION:Tsooru Rahvamaja\, Tsooru\, Antsla vald\, Võrumaa\, Eesti
CATEGORIES:Laat
ATTACH;FMTTYPE=image/jpeg:https://antslakultuur.ee/wp-content/uploads/2023/03/Tsooru-kevadlaat-pikuti.jpg
END:VEVENT
END:VCALENDAR