BEGIN:VCALENDAR
VERSION:2.0
PRODID:-//Antsla Valla Kultuurikeskus - ECPv6.3.1//NONSGML v1.0//EN
CALSCALE:GREGORIAN
METHOD:PUBLISH
X-ORIGINAL-URL:https://antslakultuur.ee
X-WR-CALDESC:Events for Antsla Valla Kultuurikeskus
REFRESH-INTERVAL;VALUE=DURATION:PT1H
X-Robots-Tag:noindex
X-PUBLISHED-TTL:PT1H
BEGIN:VTIMEZONE
TZID:Europe/Helsinki
BEGIN:DAYLIGHT
TZOFFSETFROM:+0200
TZOFFSETTO:+0300
TZNAME:EEST
DTSTART:20230326T010000
END:DAYLIGHT
BEGIN:STANDARD
TZOFFSETFROM:+0300
TZOFFSETTO:+0200
TZNAME:EET
DTSTART:20231029T010000
END:STANDARD
END:VTIMEZONE
BEGIN:VEVENT
DTSTART;TZID=Europe/Helsinki:20230624T190000
DTEND;TZID=Europe/Helsinki:20230624T233000
DTSTAMP:20260422T141449
CREATED:20230531T083924Z
LAST-MODIFIED:20230531T083924Z
UID:1300-1687633200-1687649400@antslakultuur.ee
SUMMARY:VANA-AJA JAANIÕHTU Uue-Antsla pargis
DESCRIPTION:Laupäevasel päeval\, 24. juunil 2023\nvarasel õhtupoolikul\, hakatusega kell 19\npannakse toime MTÜ Kaksküla korraldusel\nAntsla vallas Uue-Antsla Rahvamaja pargis\n\nVANA-AJA JAANIÕHTU\n• Lasva rahvamaja näitetrupp etendab lõbusat näitemängu “PILA-PEETRI TESTAMENT”. Etenduse algus kell 19.00\n• Süütame jaanitule.\n• Muusikat teeb koosseis HEINO TARTES JA SÕBRAD\,\n• HAANJA TANTSU MÄNGU LAULU SELTS\n• Rahvalikud mängud ja jõukatsumised\n• Hobuvankrisõit\n• Loterii-allegrii\n• Külakõrts\n\nSissepääse tasuta.\nOma äranägemise järgi saab teha pidu-õhtu toetuseks annetuse. Vihma korral pidu rahvamajas.\n\nPidu-õhtu toimumisele aitavad kaasa:\nühendasutus Antsla Valla Kultuurikeskus\, MTÜ Uue-Antsla Vanaemad ja vabatahtlikud.
URL:https://antslakultuur.ee/event/vana-aja-jaaniohtu-uue-antsla-pargis/
LOCATION:Uue-Antsla Rahvamaja\, Uue-Antsla\, Antsla vald\, Võrumaa\, Eesti
CATEGORIES:Tantsuõhtu
ATTACH;FMTTYPE=image/jpeg:https://antslakultuur.ee/wp-content/uploads/2023/05/347403777_1308928863043806_3408852816501602609_n.jpg
END:VEVENT
END:VCALENDAR