BEGIN:VCALENDAR
VERSION:2.0
PRODID:-//Antsla Valla Kultuurikeskus - ECPv6.3.1//NONSGML v1.0//EN
CALSCALE:GREGORIAN
METHOD:PUBLISH
X-ORIGINAL-URL:https://antslakultuur.ee
X-WR-CALDESC:Events for Antsla Valla Kultuurikeskus
REFRESH-INTERVAL;VALUE=DURATION:PT1H
X-Robots-Tag:noindex
X-PUBLISHED-TTL:PT1H
BEGIN:VTIMEZONE
TZID:Europe/Helsinki
BEGIN:DAYLIGHT
TZOFFSETFROM:+0200
TZOFFSETTO:+0300
TZNAME:EEST
DTSTART:20230326T010000
END:DAYLIGHT
BEGIN:STANDARD
TZOFFSETFROM:+0300
TZOFFSETTO:+0200
TZNAME:EET
DTSTART:20231029T010000
END:STANDARD
END:VTIMEZONE
BEGIN:VEVENT
DTSTART;TZID=Europe/Helsinki:20231020T190000
DTEND;TZID=Europe/Helsinki:20231021T000000
DTSTAMP:20260423T030609
CREATED:20231010T124901Z
LAST-MODIFIED:20231010T125051Z
UID:1533-1697828400-1697846400@antslakultuur.ee
SUMMARY:TANTSUÕHTU ansambliga Kruiis
DESCRIPTION:Kauaoodatud Uueka tantsuõhtu tuleb 20. oktoobril! \n\nTantsutab ansambel Kruiis koos Ervin Lillepeaga.\n“Ansambli Kruiis repertuaar on väga mahukas ja mitmekülgne. Oleme suutelised peoõhtul valima laule paljude nii tuntud kui ka vähem tuntud laulude seast. Repertuaaris on erinevaid tantsurütme nii nooremale kui vanemale publikule. Oleme täis energiat ja esinemislusti\, milles saate ise veenduda!”\nÕhtut juhib Mai Einama.Avatud kohvik. \nPiletite eelmüük Fientast hinnaga 10 eur: https://fienta.com/et/tantsohtu-ansambliga-kruiis\nKohapeal pilet 15 eur. \nOstes Fientast ühe ostuga piletid kogu oma laudkonnale\, pole telefoni teel eraldi laua broneeringut vaja teha. \nInfo telefonil 56686466 (Kati) või uueantsla@antsla.ee
URL:https://antslakultuur.ee/event/tantsuohtu-ansambliga-kruiis/
LOCATION:Uue-Antsla Rahvamaja\, Uue-Antsla\, Antsla vald\, Võrumaa\, Eesti
ATTACH;FMTTYPE=image/jpeg:https://antslakultuur.ee/wp-content/uploads/2023/10/Tantsuohtu-A3-20-10-23-02.jpg
END:VEVENT
END:VCALENDAR