BEGIN:VCALENDAR
VERSION:2.0
PRODID:-//Antsla Valla Kultuurikeskus - ECPv6.3.1//NONSGML v1.0//EN
CALSCALE:GREGORIAN
METHOD:PUBLISH
X-ORIGINAL-URL:https://antslakultuur.ee
X-WR-CALDESC:Events for Antsla Valla Kultuurikeskus
REFRESH-INTERVAL;VALUE=DURATION:PT1H
X-Robots-Tag:noindex
X-PUBLISHED-TTL:PT1H
BEGIN:VTIMEZONE
TZID:Europe/Helsinki
BEGIN:DAYLIGHT
TZOFFSETFROM:+0200
TZOFFSETTO:+0300
TZNAME:EEST
DTSTART:20230326T010000
END:DAYLIGHT
BEGIN:STANDARD
TZOFFSETFROM:+0300
TZOFFSETTO:+0200
TZNAME:EET
DTSTART:20231029T010000
END:STANDARD
END:VTIMEZONE
BEGIN:VEVENT
DTSTART;TZID=Europe/Helsinki:20231105T140000
DTEND;TZID=Europe/Helsinki:20231105T160000
DTSTAMP:20260422T072904
CREATED:20230901T222556Z
LAST-MODIFIED:20231023T110922Z
UID:1392-1699192800-1699200000@antslakultuur.ee
SUMMARY:Tsooru mälumängur 2023-2024
DESCRIPTION:
URL:https://antslakultuur.ee/event/komoodiateater-anne-paluver-ikka-veel-27/
LOCATION:Tsooru Rahvamaja\, Tsooru\, Antsla vald\, Võrumaa\, Eesti
CATEGORIES:Mälumäng,Teater
ATTACH;FMTTYPE=image/jpeg:https://antslakultuur.ee/wp-content/uploads/2023/09/TsooruMALUMANGUR-2023.jpg
END:VEVENT
END:VCALENDAR