BEGIN:VCALENDAR
VERSION:2.0
PRODID:-//Antsla Valla Kultuurikeskus - ECPv6.3.1//NONSGML v1.0//EN
CALSCALE:GREGORIAN
METHOD:PUBLISH
X-ORIGINAL-URL:https://antslakultuur.ee
X-WR-CALDESC:Events for Antsla Valla Kultuurikeskus
REFRESH-INTERVAL;VALUE=DURATION:PT1H
X-Robots-Tag:noindex
X-PUBLISHED-TTL:PT1H
BEGIN:VTIMEZONE
TZID:Europe/Helsinki
BEGIN:DAYLIGHT
TZOFFSETFROM:+0200
TZOFFSETTO:+0300
TZNAME:EEST
DTSTART:20230326T010000
END:DAYLIGHT
BEGIN:STANDARD
TZOFFSETFROM:+0300
TZOFFSETTO:+0200
TZNAME:EET
DTSTART:20231029T010000
END:STANDARD
END:VTIMEZONE
BEGIN:VEVENT
DTSTART;TZID=Europe/Helsinki:20231111T110000
DTEND;TZID=Europe/Helsinki:20231111T150000
DTSTAMP:20260422T072933
CREATED:20231018T144124Z
LAST-MODIFIED:20231106T093059Z
UID:1423-1699700400-1699714800@antslakultuur.ee
SUMMARY:LÖVVÄMI TII UMALÕ PIDOLÕ! TSIHIOTSMISÕ- JA MÄNGOPÄÄVÄ’
DESCRIPTION:Liikumispäev saab alguse 11. novembril kell 11 Antsla kultuurikeskuse juures Urvaste kihelkonnas. \nLiikumispäev algab ja lõpeb samas kohas ja iga osaline saab raja läbimiseks kaardi ja vajaduse korral kaardiga liikumiseks väikese väljaõppe. Rada kulgeb asulates ja nende lähiümbruses. \nRajal liikudes tuleb üles leida kaardil ära märgitud Võrumaa kultuurilooga seotud kohad. Sealt saab paiga kohta silmaringi avardavat teavet. Liikumispäeva pikkuseks on planeeritud neli tundi. \nVõrumaa orienteerumisradade ettevalmistaja Sixten Sild julgustab kõiki liikumispäevadest osa võtma: „Kui sul on vähegi maadeavastaja geeni ja huvi kodukoha vastu\, siis on see üritus just sulle.“ \nLiikumissari „Lövvämi tii Umalõ Pidolõ!“ ühendab kuuenda Uma Pido teemaks oleva mängu liikumise\, mõtlemise ja Vana-Võromaa kultuuriruumi tundmaõppimisega. Iga liikumispäeva alustuseks õpitakse selgeks ühe Vana-Võromaa kihelkonna laulumäng\, eestvõtjaks on Meelika Hainsoo. \nRohkem infot saab liikumispäevade kohta: umapido.ee/et/siht/ \nÜRITUSE PAREMA KORRALDUSE JAOKS REGISTREERI ENNAST KINDLASTI SIIN: https://docs.google.com/forms/d/e/1FAIpQLSc3eaGo3OnZpK000rhtkHObRvasjdl6-P4k1O0GVXZ5sZuC-g/viewform \nKorraldust veab MTÜ Võro Selts VKKF. \nKorraldavad: Võru instituut\, Põlva ja Võru arenduskeskused\, Põlvamaa omavalitsuste liit\, Põlva vallavalitsus\, Võru linn\, Räpina vallavalitsus\, Kanepi vallavalitsus\, Valga vallavalitsus ja paljud Põlva ja Võru maakonna seltside ja asutuste inimesed. \nToetavad: Eesti Kultuurkapital (Põlvamaa\, Tartumaa ja Võrumaa ekspertgrupid\, rahvakultuuri ja helikunsti sihtkapital)\, Võru Vallavalitsus\, Võru Instituut\, Kultuuriministeerium\, Võrumaa Partnerluskogu\, Võru linnavalitsus\, Põlva Vallavalitsus\, Eesti Rahvakultuuri Keskus (Regionaalse kultuuritegevuse toetus\, Vana Võromaa pärimuskultuuri toetus)\, SA Võrumaa arenduskeskus\, SA Põlvamaa arenduskeskus\, Põlvamaa Omavalitsuste Liit\, Rahandusministeerium kohaliku omaalgatuse programmi vahenditest (Võru ja Põlva mk)\, SA Räpina Kultuurkapital\, Antsla vallavalitsus\, Eesti Rahvuskultuuri Fond\, Võru Muusikakool\, Priit Sibul\, Kaup24.ee. \nMeediapartner: Uma Leht.
URL:https://antslakultuur.ee/event/lovvami-tii-umalo-pidolo-tsihiotsmiso-ja-mangopaava-2/
LOCATION:Antsla Kultuurikeskus\, Kooli tee 19\, Antsla\, Võrumaa\, 66403\, Eesti
CATEGORIES:Muu
ATTACH;FMTTYPE=application/pdf:https://antslakultuur.ee/wp-content/uploads/2023/09/lovvami-tii-umalo-pidolo-Matkaplakat-A4.pdf
END:VEVENT
BEGIN:VEVENT
DTSTART;TZID=Europe/Helsinki:20231111T200000
DTEND;TZID=Europe/Helsinki:20231111T233000
DTSTAMP:20260422T072933
CREATED:20231019T105345Z
LAST-MODIFIED:20231019T105345Z
UID:1542-1699732800-1699745400@antslakultuur.ee
SUMMARY:Isadepäeva tantsuõhtu ansambliga Lillellised
DESCRIPTION:
URL:https://antslakultuur.ee/event/isadepaeva-tantsuohtu-ansambliga-lillellised/
LOCATION:Tsooru Rahvamaja\, Tsooru\, Antsla vald\, Võrumaa\, Eesti
CATEGORIES:Tantsuõhtu
ATTACH;FMTTYPE=image/jpeg:https://antslakultuur.ee/wp-content/uploads/2023/10/Isadeoaeva-pidu-2023-Tsooru-A3-01.jpg
END:VEVENT
END:VCALENDAR