BEGIN:VCALENDAR
VERSION:2.0
PRODID:-//Antsla Valla Kultuurikeskus - ECPv6.3.1//NONSGML v1.0//EN
CALSCALE:GREGORIAN
METHOD:PUBLISH
X-WR-CALNAME:Antsla Valla Kultuurikeskus
X-ORIGINAL-URL:https://antslakultuur.ee
X-WR-CALDESC:Events for Antsla Valla Kultuurikeskus
REFRESH-INTERVAL;VALUE=DURATION:PT1H
X-Robots-Tag:noindex
X-PUBLISHED-TTL:PT1H
BEGIN:VTIMEZONE
TZID:Europe/Helsinki
BEGIN:DAYLIGHT
TZOFFSETFROM:+0200
TZOFFSETTO:+0300
TZNAME:EEST
DTSTART:20230326T010000
END:DAYLIGHT
BEGIN:STANDARD
TZOFFSETFROM:+0300
TZOFFSETTO:+0200
TZNAME:EET
DTSTART:20231029T010000
END:STANDARD
END:VTIMEZONE
BEGIN:VEVENT
DTSTART;TZID=Europe/Helsinki:20231117T200000
DTEND;TZID=Europe/Helsinki:20231117T210000
DTSTAMP:20260422T072830
CREATED:20230901T213356Z
LAST-MODIFIED:20231019T104732Z
UID:1386-1700251200-1700254800@antslakultuur.ee
SUMMARY:Antsla Acoustic - Kaisa Ling Thing
DESCRIPTION:Provokatiivne\, poliitiline ja praaliv\, nii omajagu rafineeritud kui ka veidi labane\, valab Eesti parim (ja ühtlasi ainus) palaganibluusi kollektiiv Kaisa Ling Thing kirgliku sõnumi dünaamilisse muusikalisse vormi. Tulevane eesti bluusi grand old lady Kaisa Ling pasundab sügavat sinist bluusi. \n2018 ilmus debüütalbum „Nii kole mees” ning 2021. aasta kevadel „Läänemure lained”. Lisaks on ansambel loonud ühe bluusikali „Kuldsete kätega mees”\, mis räägib soolisest palgalõhest\, täispika bluusikali meeste alaväärsuskompleksidest („Mehistumise viisid” 2023) ning osalenud Edinburgh’ Fringe Festivalil kavaga „The Feminist’s Handbook for Eastern Europe” (2022\, 2023). \n„Kui sarmil\, glamuuril ja moodsal naiselikkusel on üleüldse Eestis nimi\, siis on see Kaisa Ling. Ja tema Thing. Vastupanu on mõttetu\, soovitan anduda.” – Vilja Kiisler \nVaata ka: https://kaisalingthing.ee \n  \n\nAvatud kultuurikohvik\nPILETID: 10 eur (Fienta kuni 16.11.2023)\, 15 eur kohapeal\, kuni 12-a. tasuta https://fienta.com/et/antsla-acoustic-kaisa-ling-thing-2
URL:https://antslakultuur.ee/event/antsla-acoustic-kaisa-ling-thing/
LOCATION:Võrumaa
CATEGORIES:antsla acoustic
ATTACH;FMTTYPE=image/jpeg:https://antslakultuur.ee/wp-content/uploads/2023/09/antsla-acoustic-KAISA-LING-THING-1.jpg
ORGANIZER;CN="Antsla Kultuurikeskus":MAILTO:kultuur@antsla.ee
END:VEVENT
END:VCALENDAR