BEGIN:VCALENDAR
VERSION:2.0
PRODID:-//Antsla Valla Kultuurikeskus - ECPv6.3.1//NONSGML v1.0//EN
CALSCALE:GREGORIAN
METHOD:PUBLISH
X-ORIGINAL-URL:https://antslakultuur.ee
X-WR-CALDESC:Events for Antsla Valla Kultuurikeskus
REFRESH-INTERVAL;VALUE=DURATION:PT1H
X-Robots-Tag:noindex
X-PUBLISHED-TTL:PT1H
BEGIN:VTIMEZONE
TZID:Europe/Helsinki
BEGIN:DAYLIGHT
TZOFFSETFROM:+0200
TZOFFSETTO:+0300
TZNAME:EEST
DTSTART:20240331T010000
END:DAYLIGHT
BEGIN:STANDARD
TZOFFSETFROM:+0300
TZOFFSETTO:+0200
TZNAME:EET
DTSTART:20241027T010000
END:STANDARD
END:VTIMEZONE
BEGIN:VEVENT
DTSTART;TZID=Europe/Helsinki:20240126T200000
DTEND;TZID=Europe/Helsinki:20240126T230000
DTSTAMP:20260422T021831
CREATED:20231204T144653Z
LAST-MODIFIED:20231204T144653Z
UID:1663-1706299200-1706310000@antslakultuur.ee
SUMMARY:Antsla Acoustic - Egert Milder
DESCRIPTION:Tule ja saa osa ühest toredast õhtust Egert Milderi akustilisel kontserdil!\nEsitamisele tulevad nii vanad lemmikud kui ka seni avaldamata värske looming. \n  \nEelmüük Fientas: https://fienta.com/et/antsla-acoustic-egert-milder
URL:https://antslakultuur.ee/event/antsla-acoustic-egert-milder/
LOCATION:Antsla Kultuurikeskus\, Kooli tee 19\, Antsla\, Võrumaa\, 66403\, Eesti
ATTACH;FMTTYPE=image/jpeg:https://antslakultuur.ee/wp-content/uploads/2023/12/Acoustic-Egert-Milder.jpg
ORGANIZER;CN="Antsla Kultuurikeskus":MAILTO:kultuur@antsla.ee
END:VEVENT
END:VCALENDAR