BEGIN:VCALENDAR
VERSION:2.0
PRODID:-//Antsla Valla Kultuurikeskus - ECPv6.3.1//NONSGML v1.0//EN
CALSCALE:GREGORIAN
METHOD:PUBLISH
X-ORIGINAL-URL:https://antslakultuur.ee
X-WR-CALDESC:Events for Antsla Valla Kultuurikeskus
REFRESH-INTERVAL;VALUE=DURATION:PT1H
X-Robots-Tag:noindex
X-PUBLISHED-TTL:PT1H
BEGIN:VTIMEZONE
TZID:Europe/Helsinki
BEGIN:DAYLIGHT
TZOFFSETFROM:+0200
TZOFFSETTO:+0300
TZNAME:EEST
DTSTART:20240331T010000
END:DAYLIGHT
BEGIN:STANDARD
TZOFFSETFROM:+0300
TZOFFSETTO:+0200
TZNAME:EET
DTSTART:20241027T010000
END:STANDARD
END:VTIMEZONE
BEGIN:VEVENT
DTSTART;VALUE=DATE:20240206
DTEND;VALUE=DATE:20240327
DTSTAMP:20260421T233133
CREATED:20240206T161103Z
LAST-MODIFIED:20240206T161103Z
UID:1762-1707188400-1711421999@antslakultuur.ee
SUMMARY:Epp Margna maalide näitus KOHTUMISED
DESCRIPTION:KOHTUMISED\nSee on valik piltidest\, mis loovad kokku pikema sarja „ samas ruumis“ . See sari ei saa tegelikult mitte kunagi valmis\, ma ei jõuaks kunagi neid kõiki tundmagi saada\, kellega koos seda ruumi jagan. Aga ma õpin neid järjest rohkem nägema ja kuulma.\n\nEPP MARGNA (10.06.1965)\nKui ma poleks noorena sattunud elama maakohta keset metsa\, palkmajja\, kus polnud elektrit ja tsivilisatsiooni meenutas vaid transistorraadio\, siis tõenäoliselt poleks ma see\, kes täna. Seal elades hakkas klaaruma ja settima minu ilmaruum ja suhe ümbritsevasse\, see omakorda kujundas ka minu kunstnikuks kasvamist. Kui ma ei pea ümbritsevast\, siis ei pea ma ka iseendast.\n\nMinu maalilooming on suuresti seotud kahe teemaderingiga: kes elavad minu kõrval e. siis loodus ümberringi ja meie ammendamatu varasalv rahvaluulearhiiv\, ennekõike vanad regilaulud\, meie olemuse tugitekstid. Iga kivi\, puu\, küngas ja oja on endasse salvestanud eelnevate aegade lugusid\, nad on hoomanud siitilma kaugelt enam kui üks inimene oma elueal seda haarata vast suudakski. Minu jaoks on see ammendamatu aines piltidele ja läbi nende piltide maalimise ka rajalhoidjaks teel\, mida mööda oma elu käia.\n\nwww.eppmargna.com
URL:https://antslakultuur.ee/event/epp-margna-maalide-naitus-kohtumised/
LOCATION:Antsla Kultuurikeskus\, Kooli tee 19\, Antsla\, Võrumaa\, 66403\, Eesti
CATEGORIES:Näitus
ATTACH;FMTTYPE=image/jpeg:https://antslakultuur.ee/wp-content/uploads/2024/02/plakat-A4-Epp-Margna-naitus-Antslasse.jpg
ORGANIZER;CN="Antsla Kultuurikeskus":MAILTO:kultuur@antsla.ee
END:VEVENT
BEGIN:VEVENT
DTSTART;TZID=Europe/Helsinki:20240228T190000
DTEND;TZID=Europe/Helsinki:20240228T200000
DTSTAMP:20260421T233133
CREATED:20240216T101843Z
LAST-MODIFIED:20240216T101843Z
UID:1789-1709146800-1709150400@antslakultuur.ee
SUMMARY:KINO Tsoorus "Elu ja armastus"
DESCRIPTION:kinodes alates 16.02 \nA. H. Tammsaare samanimelisel romaanil põhinev mängufilm viib meid ühe ootamatu armastusloo keskmesse. Elu ja armastuse järskude pööretega seisavad silmitsi kaks Eesti kirjandusest tuntud ikoonilist tegelast\, Irma ja Rudolf. Filmi tegevus leiab aset murrangulisel ajajärgul\, mil kasvavast heaolust rammestunud noor Eesti Vabariik peab toime tulema muutuva maailma raputavate väljakutsetega. \nEsmakordselt täispika mängufilmina ekraanile jõudev “Elu ja armastus” annab aegumatutele teemadele värske vaatepunkti\, luues üllatavaid paralleele tänapäevamaailmaga. 1933. aasta kuumal suvel tuleb sisukamast elust unistav noor Irma maalt linna sugulase Lonni juurde. Irma on keskkonnavahetusest vaimustuses\, linnaelus pettunud Lonni näeb aga tüdruku tulekus uut võimalust ka enda jaoks. Irmasse armunud maapoiss Eedi jälitab tüdrukut ja üritab veenda teda tagasi tulema\, oma isatallu perenaiseks. Irma aga on otsustanud nende ühise romantilise mineviku oma unistuste nimel seljatada. Juhuse tahtel palkab keskealine trükitööstur Rudolf Irma endale teenijaks. Rudolfi sarm ja salapära paeluvad Irmat ja ootamatult tärganud tunded ei lase tal ühel hetkel enam mehe lähenemiskatseid tõrjuda. Ehkki Rudolf vannub Irmale armastust\, paljastub peagi edeva mehe liiderlik ja manipuleeriv pale. \nKategooria: Mängufilm | Žanr: Draama Režissöör: Helen Takkin Tootja: HeaFilm
URL:https://antslakultuur.ee/event/kino-tsoorus-elu-ja-armastus/
LOCATION:Tsooru Rahvamaja\, Tsooru\, Antsla vald\, Võrumaa\, Eesti
CATEGORIES:Kino
ATTACH;FMTTYPE=image/jpeg:https://antslakultuur.ee/wp-content/uploads/2024/01/Elu_ja_armastus_2592x3840px-scaled.jpg
END:VEVENT
END:VCALENDAR