BEGIN:VCALENDAR
VERSION:2.0
PRODID:-//Antsla Valla Kultuurikeskus - ECPv6.3.1//NONSGML v1.0//EN
CALSCALE:GREGORIAN
METHOD:PUBLISH
X-ORIGINAL-URL:https://antslakultuur.ee
X-WR-CALDESC:Events for Antsla Valla Kultuurikeskus
REFRESH-INTERVAL;VALUE=DURATION:PT1H
X-Robots-Tag:noindex
X-PUBLISHED-TTL:PT1H
BEGIN:VTIMEZONE
TZID:Europe/Helsinki
BEGIN:DAYLIGHT
TZOFFSETFROM:+0200
TZOFFSETTO:+0300
TZNAME:EEST
DTSTART:20240331T010000
END:DAYLIGHT
BEGIN:STANDARD
TZOFFSETFROM:+0300
TZOFFSETTO:+0200
TZNAME:EET
DTSTART:20241027T010000
END:STANDARD
END:VTIMEZONE
BEGIN:VEVENT
DTSTART;TZID=Europe/Helsinki:20240328T190000
DTEND;TZID=Europe/Helsinki:20240328T200000
DTSTAMP:20260421T233232
CREATED:20240214T093754Z
LAST-MODIFIED:20240214T093754Z
UID:1771-1711652400-1711656000@antslakultuur.ee
SUMMARY:Kaika Teatriklubi etendus "Ähijärve bussipeatus"
DESCRIPTION:Lavastaja Agu Trolla \nOsades:  \nKaspar Kurve \nJaak Sachris \nLiisa Sachris \nPaula Solvak \nSirle Ruotsi \nKadri Janson \nDamaara Dräbtsinskaja \nSirle Vainola \nUku Freiberg \nMihkel Nurmet \n  \npilet 5 eur
URL:https://antslakultuur.ee/event/kaika-teatriklubi-etendus-ahijarve-bussipeatus/
LOCATION:Antsla Kultuurikeskus\, Kooli tee 19\, Antsla\, Võrumaa\, 66403\, Eesti
CATEGORIES:Teater
ATTACH;FMTTYPE=image/jpeg:https://antslakultuur.ee/wp-content/uploads/2024/02/kaika-teatriklubi.jpg
ORGANIZER;CN="Antsla Kultuurikeskus":MAILTO:kultuur@antsla.ee
END:VEVENT
END:VCALENDAR