BEGIN:VCALENDAR
VERSION:2.0
PRODID:-//Antsla Valla Kultuurikeskus - ECPv6.3.1//NONSGML v1.0//EN
CALSCALE:GREGORIAN
METHOD:PUBLISH
X-ORIGINAL-URL:https://antslakultuur.ee
X-WR-CALDESC:Events for Antsla Valla Kultuurikeskus
REFRESH-INTERVAL;VALUE=DURATION:PT1H
X-Robots-Tag:noindex
X-PUBLISHED-TTL:PT1H
BEGIN:VTIMEZONE
TZID:Europe/Helsinki
BEGIN:DAYLIGHT
TZOFFSETFROM:+0200
TZOFFSETTO:+0300
TZNAME:EEST
DTSTART:20240331T010000
END:DAYLIGHT
BEGIN:STANDARD
TZOFFSETFROM:+0300
TZOFFSETTO:+0200
TZNAME:EET
DTSTART:20241027T010000
END:STANDARD
END:VTIMEZONE
BEGIN:VEVENT
DTSTART;TZID=Europe/Helsinki:20240412T200000
DTEND;TZID=Europe/Helsinki:20240413T000000
DTSTAMP:20260421T010301
CREATED:20240326T104844Z
LAST-MODIFIED:20240326T104904Z
UID:1829-1712952000-1712966400@antslakultuur.ee
SUMMARY:Tantsuõhtu ansambliga MAMA
DESCRIPTION:Siin see on – kauaoodatud tantsuõhtu ansambliga MAMA!\nOtsi peokingad välja ja tantsime end hingetuks!\nAnsambel MaMa endast: esitame muusikat polkast – rock’ini ja valsist – rock´n rollini. Laulame üldjuhul emakeeles. Koosseisu kuuluvad Mati ja Margus. Esimene mäletatav esinemine (kuigi enne seda oli vist veel ) oli 10. veebruar 2007 a. Pärnumaal pulmas\, millest väike videolõik jõudis isegi Reporterisse. Isamees\, (sel korral oli naissoost) kes väitis\, et ta ei suutnud ühtegi mängu pulmas teha sellepärast\, et “orkester” oli liiga hea ja ta ei tahtnud rahvast segada\, las tantsivad… Sellest päevast on saanud ka MaMa sünnipäev.\n\nAvatud on KOHVIK.\n\nKui soovite istuda oma seltskonnaga ühes lauas aga ostate piletid eraldi\, siis andke meile teada\, millised piletiomanikud ühte lauda eelnevalt sätime.\nKontakt: tel 56686466 / Kati Velner\n\nKohtumiseni tantsuplatsil\n\nPilet eelmüügist (Fienta.com) 15 eur\, kohapeal (vabade kohtade olemasolul) 18 eur
URL:https://antslakultuur.ee/event/tantsuohtu-ansambliga-mama/
LOCATION:Uue-Antsla Rahvamaja\, Uue-Antsla\, Antsla vald\, Võrumaa\, Eesti
ATTACH;FMTTYPE=image/jpeg:https://antslakultuur.ee/wp-content/uploads/2024/03/Tantsuohtu_MaMa_19-03-24_-Uue-Antsla_A3-01.jpg
END:VEVENT
END:VCALENDAR