BEGIN:VCALENDAR
VERSION:2.0
PRODID:-//Antsla Valla Kultuurikeskus - ECPv6.3.1//NONSGML v1.0//EN
CALSCALE:GREGORIAN
METHOD:PUBLISH
X-WR-CALNAME:Antsla Valla Kultuurikeskus
X-ORIGINAL-URL:https://antslakultuur.ee
X-WR-CALDESC:Events for Antsla Valla Kultuurikeskus
REFRESH-INTERVAL;VALUE=DURATION:PT1H
X-Robots-Tag:noindex
X-PUBLISHED-TTL:PT1H
BEGIN:VTIMEZONE
TZID:Europe/Helsinki
BEGIN:DAYLIGHT
TZOFFSETFROM:+0200
TZOFFSETTO:+0300
TZNAME:EEST
DTSTART:20240331T010000
END:DAYLIGHT
BEGIN:STANDARD
TZOFFSETFROM:+0300
TZOFFSETTO:+0200
TZNAME:EET
DTSTART:20241027T010000
END:STANDARD
END:VTIMEZONE
BEGIN:VEVENT
DTSTART;TZID=Europe/Helsinki:20240429T180000
DTEND;TZID=Europe/Helsinki:20240429T200000
DTSTAMP:20260419T220759
CREATED:20240417T134629Z
LAST-MODIFIED:20240429T124518Z
UID:1834-1714413600-1714420800@antslakultuur.ee
SUMMARY:JÄÄB ÄRA! Kriisiõppus - Saame hakkama\, Antsla vald!
DESCRIPTION:ESMASPÄEVAL\, 29.APRILL kell 18.00 toimub Antsla Kultuurikeskuses päästeameti ja Eesti Naabrivalve poolt läbi viidav kriisiõppus elanikele.\n‼️ Osalemiseks vajalik registreerimine: info@naabrivalve.ee\nvõi helista 652 2522\nNB! Koolitus toimub\, kui osaleb vähemalt 10 inimest
URL:https://antslakultuur.ee/event/kriisioppus-saame-hakkama-antsla-vald/
LOCATION:Antsla Kultuurikeskus\, Kooli tee 19\, Antsla\, Võrumaa\, 66403\, Eesti
CATEGORIES:koolitus
ATTACH;FMTTYPE=image/jpeg:https://antslakultuur.ee/wp-content/uploads/2024/04/436308752_835981278562965_7489968999184167297_n.jpg
END:VEVENT
END:VCALENDAR