BEGIN:VCALENDAR
VERSION:2.0
PRODID:-//Antsla Valla Kultuurikeskus - ECPv6.3.1//NONSGML v1.0//EN
CALSCALE:GREGORIAN
METHOD:PUBLISH
X-ORIGINAL-URL:https://antslakultuur.ee
X-WR-CALDESC:Events for Antsla Valla Kultuurikeskus
REFRESH-INTERVAL;VALUE=DURATION:PT1H
X-Robots-Tag:noindex
X-PUBLISHED-TTL:PT1H
BEGIN:VTIMEZONE
TZID:Europe/Helsinki
BEGIN:DAYLIGHT
TZOFFSETFROM:+0200
TZOFFSETTO:+0300
TZNAME:EEST
DTSTART:20250330T010000
END:DAYLIGHT
BEGIN:STANDARD
TZOFFSETFROM:+0300
TZOFFSETTO:+0200
TZNAME:EET
DTSTART:20251026T010000
END:STANDARD
END:VTIMEZONE
BEGIN:VEVENT
DTSTART;TZID=Europe/Helsinki:20250123T190000
DTEND;TZID=Europe/Helsinki:20250123T203000
DTSTAMP:20260422T115830
CREATED:20250114T124207Z
LAST-MODIFIED:20250114T124207Z
UID:2223-1737658800-1737664200@antslakultuur.ee
SUMMARY:Kino Tsoorus "Aurora"
DESCRIPTION:pilet 6 eur \nUsujuhi tütar Aurora sõidab abikaasa Joonasega oma vanemate juurde pulmaaastapäeva tähistama. Samal ajal üritab naisega ühendust saada tema endine salaarmuke Lenny. Abikaasale ei jää see aga märkamatuks. \nAastapäeva tähistamisest kujuneb välja pereväärtusi ülistav vaatemäng\, millega Aurora isa Valdek tahab järgijaile luua pilti ideaalsest peremudelist. \nParalleelselt käivitub teine ajatasand ning vaatajad lennutatakse ajas aasta tagasi\, otse Aurora ja Lenny ootamatu ja tulise armuloo keskmesse\, mille käigus tõmbab mees Aurora oma pöörasesse maailma. \nOsades Johanna Maarja Mägi\, Jörgen Liik\, Ott Kartau\, Karin Rask\, Indrek Taalmaa\, Rea Lest ja paljud teised. \nRežissöör: Rain Tolk\, Andres Maimik\nTootja: HeaFilm
URL:https://antslakultuur.ee/event/kino-tsoorus-aurora/
LOCATION:Tsooru Rahvamaja\, Tsooru\, Antsla vald\, Võrumaa\, Eesti
CATEGORIES:Kino
ATTACH;FMTTYPE=image/jpeg:https://antslakultuur.ee/wp-content/uploads/2025/01/Aurora-Tsooru.jpg
END:VEVENT
END:VCALENDAR