BEGIN:VCALENDAR
VERSION:2.0
PRODID:-//Antsla Valla Kultuurikeskus - ECPv6.3.1//NONSGML v1.0//EN
CALSCALE:GREGORIAN
METHOD:PUBLISH
X-WR-CALNAME:Antsla Valla Kultuurikeskus
X-ORIGINAL-URL:https://antslakultuur.ee
X-WR-CALDESC:Events for Antsla Valla Kultuurikeskus
REFRESH-INTERVAL;VALUE=DURATION:PT1H
X-Robots-Tag:noindex
X-PUBLISHED-TTL:PT1H
BEGIN:VTIMEZONE
TZID:Europe/Helsinki
BEGIN:DAYLIGHT
TZOFFSETFROM:+0200
TZOFFSETTO:+0300
TZNAME:EEST
DTSTART:20250330T010000
END:DAYLIGHT
BEGIN:STANDARD
TZOFFSETFROM:+0300
TZOFFSETTO:+0200
TZNAME:EET
DTSTART:20251026T010000
END:STANDARD
END:VTIMEZONE
BEGIN:VEVENT
DTSTART;VALUE=DATE:20250411
DTEND;VALUE=DATE:20250413
DTSTAMP:20260423T120243
CREATED:20250113T134459Z
LAST-MODIFIED:20250407T162013Z
UID:2214-1744340400-1744426799@antslakultuur.ee
SUMMARY:VÕRU MAAKONNA LASTE JA NOORTE NÄITEMÄNGUPÄEV 2025
DESCRIPTION:10:00	näitemängupäeva avamine\n10:15	Kuldsed Kuldrekad (vanemad) “Heldur ja naised”\,  inspireeritud Margus Oopkaup näidendi kogumikest\, lavastaja Agnes Kirsbaum (20 min)\n10:35	päevajuhid\n10:45	Leiutajate Külakooli Lasteteater “Cipollino seiklused”\, Eero Spriidi ainetel\, lavastaja Kadi Noor (20 min)\n11:00	päevajuhid\n11:05	Rõugõ Põhikool “Hirmus matk”\, trupi omalooming\, Lavastaja Heino Pall (20 min)\n11:25	päevajuhid\n11:35	Vastseliina Gümnaasiumi 4.b klass “Lugu lumememmest\, kes ei tahtnud ära sulada” Kertu Torn Henri van Daele raamatu “Lumememm\, kes ei tahtnud ära sulada” ainetel\, lavastaja Kertu Torn (28 min)\n12:00	päevajuhid\n12:05	Kuldsed Kuldrekad\, muusikaline etendus “Kadunud unenäod”\, Vilve Aavik-Vadi\, lavastaja Agnes Kirsbaum\, muusikaline juht Erma Kallasse(15 min)\n12:20	päevajuhid\n12:25	Osula Põhikooli näitering ”Pühajõe -Võhandu lugu\, lavastaja Karin Peterson\,  (15 min)\n12:40	PAUS	VIKTORIIN\n13:05	päevajuhid ja žürii  I vanuseastme võitjate väljakuulutamine\n13:20	Osula Põhikool (vanemad)\, “Kust sa tuled?” tekst: Kairit Thealane\, muusika (erinevad autorid)\, lavastaja Kairit Thealane (27min)\n13:45	päevajuhid\n14:00	Võru Kreutzwaldi Kool\, “Kapstapää” Oskar Luts\, võrukeelseks teinud Liina Saksing\, lavastajad: Liina Saksing\, Isabel Rauk\, Joanna Luts  (30 min)\n14:30	päevajuhid\n14:50	Parksepa Keskkooli 6. klass\, “Hakka või uskuma”\, Leiu Sulg\, lavastajad: Mariina Kõrs\, Airi Pütsep (35 min)\n15:20	päevajuhid\n15:30	Võru Kreuztwaldi Kooli 6.b näitetrupp\, “Klassikokkutulek” Auto ja lavastajar: Marken Mürk (20 min)\n15:50	päevajuhid\n15:55	Rõugõ Põhikool\, “Pagana opipoiskõnõ”\, lavastaja Heino Pall (20 min)\n16:10	päevajuhid\n16:30	Väike Werrone Kool\, REPORTERI ERI\, Lee Saarts 6. klassi õpilane\, lavastaja Ave Saluorg ja lapsed (20 min)\n16:50	päevajuhid\n17:15	Väike Werrone Kool\, VIII klass; A. de Saint-Exupery “Väike prints”\, lavastaja Merje Ilves (60 min)\n18:15	päevajuhid\n18:20	Vastseliina rahvamaja näitering\, “SOO SONJA JA LAUKA LAILA UDUSED SEIKLUSED VEETEEL”.Autor ja lavastaja Kairi Kuusk (30 min)\n18:50	päevajuhid	PAUS\n19:15	päevajuhid ja ZÜRII	II ja III vanuseastme võitjate väljakuulutamine \n* KORRALDAJAL ON ÕIGUS TEHA KAVAS MUUDATUSI! \nLisainfo: kertu.reva@antsla.ee; tel: 53011190  \ntoetavad: KULKA\, Võrumaa Arenduskeskus\, Eesti Harrastusteatrite Liit\, Eesti Rahvakultuuri Keskus\, Antsla Vallavalitsus\, COOP Antsla\, Liikluslinn\,  Antsla Valla Kultuurikeskus
URL:https://antslakultuur.ee/event/voru-maakonna-laste-ja-noorte-naitemangupaev-2025/
LOCATION:Antsla Kultuurikeskus\, Kooli tee 19\, Antsla\, Võrumaa\, 66403\, Eesti
CATEGORIES:Festival,Teater
ATTACH;FMTTYPE=image/jpeg:https://antslakultuur.ee/wp-content/uploads/2025/01/NAITEMANGUPAEV-FB.jpg
ORGANIZER;CN="Antsla Kultuurikeskus":MAILTO:kultuur@antsla.ee
END:VEVENT
END:VCALENDAR