BEGIN:VCALENDAR
VERSION:2.0
PRODID:-//Antsla Valla Kultuurikeskus - ECPv6.3.1//NONSGML v1.0//EN
CALSCALE:GREGORIAN
METHOD:PUBLISH
X-ORIGINAL-URL:https://antslakultuur.ee
X-WR-CALDESC:Events for Antsla Valla Kultuurikeskus
REFRESH-INTERVAL;VALUE=DURATION:PT1H
X-Robots-Tag:noindex
X-PUBLISHED-TTL:PT1H
BEGIN:VTIMEZONE
TZID:Europe/Helsinki
BEGIN:DAYLIGHT
TZOFFSETFROM:+0200
TZOFFSETTO:+0300
TZNAME:EEST
DTSTART:20250330T010000
END:DAYLIGHT
BEGIN:STANDARD
TZOFFSETFROM:+0300
TZOFFSETTO:+0200
TZNAME:EET
DTSTART:20251026T010000
END:STANDARD
END:VTIMEZONE
BEGIN:VEVENT
DTSTART;TZID=Europe/Helsinki:20250423T190000
DTEND;TZID=Europe/Helsinki:20250423T213000
DTSTAMP:20260422T150235
CREATED:20250113T140757Z
LAST-MODIFIED:20250328T111443Z
UID:2217-1745434800-1745443800@antslakultuur.ee
SUMMARY:Kellerteatri triller "Afäär"
DESCRIPTION:Sooduspilet 25 EUR(Õpilane\, tudeng\, pensionär)\nTavapilet 27 EUR\nFienta https://fienta.com/et/afa-a-r-116760 \nEdukas ja rikas ehtekunstnik Camille Dargus elab Soho glamuurses katusekorteris. Tüdinuna ühest järjekordsest igavast vastuvõtust\, veab Camille endale koju noore ettekandja Billy. Leitud noormehes on aga varjul rohkem kui pealtnäha paistab ja peagi tuleb naisel kutsuda turvamees Ted\, et jultunud Billy korterist välja visata. Nii algab ootamatute pöörete ja topeltmängudega teekond minevikku\, mida Camille on püüdnud unustada. \nautor: David Foley\ntõlkija\, lavastaja ja helikujundaja: Andres Roosileht\nkunstnik: Britt Urbla Keller\nvalguskujundaja: Rene Topolev \nOsades:\nCamille – Liina Tennosaar\nBilly – Rauno Kaibiainen\nTed – Riho Rosberg \netenduse kestvus: ca 2\,5 tundi koos vaheajaga \nLavastuses kasutatakse lavatossu\, mis on tervisele kahjutu.
URL:https://antslakultuur.ee/event/kellerteatri-triller-afaar/
LOCATION:Antsla Kultuurikeskus\, Kooli tee 19\, Antsla\, Võrumaa\, 66403\, Eesti
CATEGORIES:Teater
ATTACH;FMTTYPE=image/jpeg:https://antslakultuur.ee/wp-content/uploads/2025/01/Afaar-Antsa-23.aprill.jpg
END:VEVENT
END:VCALENDAR