BEGIN:VCALENDAR
VERSION:2.0
PRODID:-//Antsla Valla Kultuurikeskus - ECPv6.3.1//NONSGML v1.0//EN
CALSCALE:GREGORIAN
METHOD:PUBLISH
X-WR-CALNAME:Antsla Valla Kultuurikeskus
X-ORIGINAL-URL:https://antslakultuur.ee
X-WR-CALDESC:Events for Antsla Valla Kultuurikeskus
REFRESH-INTERVAL;VALUE=DURATION:PT1H
X-Robots-Tag:noindex
X-PUBLISHED-TTL:PT1H
BEGIN:VTIMEZONE
TZID:Europe/Helsinki
BEGIN:DAYLIGHT
TZOFFSETFROM:+0200
TZOFFSETTO:+0300
TZNAME:EEST
DTSTART:20250330T010000
END:DAYLIGHT
BEGIN:STANDARD
TZOFFSETFROM:+0300
TZOFFSETTO:+0200
TZNAME:EET
DTSTART:20251026T010000
END:STANDARD
END:VTIMEZONE
BEGIN:VEVENT
DTSTART;TZID=Europe/Helsinki:20250424T180000
DTEND;TZID=Europe/Helsinki:20250424T193000
DTSTAMP:20260422T132230
CREATED:20250312T103823Z
LAST-MODIFIED:20250312T103823Z
UID:2352-1745517600-1745523000@antslakultuur.ee
SUMMARY:Tsooru Jüripäeva talgud
DESCRIPTION:Hea tsoorulane\, tule 24.aprilli õhtul kell 18 Tsooru parki!  \nKoristame koos kergliiklustee äärest\, lastele jürijooks. Teeme jürituld\, saab sööki ja sooja jooki. \ninfo: Krista 58534682
URL:https://antslakultuur.ee/event/tsooru-juripaeva-talgud/
LOCATION:Tsooru Rahvamaja\, Tsooru\, Antsla vald\, Võrumaa\, Eesti
CATEGORIES:Muu
ATTACH;FMTTYPE=image/jpeg:https://antslakultuur.ee/wp-content/uploads/2025/03/tsooru-talgud-2025.jpg
END:VEVENT
END:VCALENDAR