BEGIN:VCALENDAR
VERSION:2.0
PRODID:-//Antsla Valla Kultuurikeskus - ECPv6.3.1//NONSGML v1.0//EN
CALSCALE:GREGORIAN
METHOD:PUBLISH
X-WR-CALNAME:Antsla Valla Kultuurikeskus
X-ORIGINAL-URL:https://antslakultuur.ee
X-WR-CALDESC:Events for Antsla Valla Kultuurikeskus
REFRESH-INTERVAL;VALUE=DURATION:PT1H
X-Robots-Tag:noindex
X-PUBLISHED-TTL:PT1H
BEGIN:VTIMEZONE
TZID:Europe/Helsinki
BEGIN:DAYLIGHT
TZOFFSETFROM:+0200
TZOFFSETTO:+0300
TZNAME:EEST
DTSTART:20250330T010000
END:DAYLIGHT
BEGIN:STANDARD
TZOFFSETFROM:+0300
TZOFFSETTO:+0200
TZNAME:EET
DTSTART:20251026T010000
END:STANDARD
END:VTIMEZONE
BEGIN:VEVENT
DTSTART;TZID=Europe/Helsinki:20250601T120000
DTEND;TZID=Europe/Helsinki:20250601T140000
DTSTAMP:20260420T021614
CREATED:20250524T114932Z
LAST-MODIFIED:20250524T114932Z
UID:2449-1748779200-1748786400@antslakultuur.ee
SUMMARY:Antsla valla lastekaitsepäev
DESCRIPTION:Antsla valla lastekaitsepäev toimub 1. juunil Uue-Antsla rahvamaja pargis kell 12.00-14.00.  \nToredaid tegevusi on kõigile – ägedad suured lauamängud murul mängimiseks\, sportlikud võistlused ja batuudid. \nAktiivse päeva aitab mööda saata noortekohvik. \nLisaks toimub legendaarsust koguv võistlus NOORED VS VÕIM\, seekord vaatame\, kes on jalgpallis paremad. \nTegevusi viiakse ellu koostööprojekti “Lõuna-Eesti ettevõtlikud noored” raames meetme „Atraktiivne piirkondlik ettevõtlus- ja elukeskkond” vahenditest.
URL:https://antslakultuur.ee/event/antsla-valla-lastekaitsepaev/
LOCATION:Uue-Antsla Rahvamaja\, Uue-Antsla\, Antsla vald\, Võrumaa\, Eesti
CATEGORIES:Festival
ATTACH;FMTTYPE=image/png:https://antslakultuur.ee/wp-content/uploads/2025/05/Lastekaitsepaev_plakat.png
END:VEVENT
END:VCALENDAR