BEGIN:VCALENDAR
VERSION:2.0
PRODID:-//Antsla Valla Kultuurikeskus - ECPv6.3.1//NONSGML v1.0//EN
CALSCALE:GREGORIAN
METHOD:PUBLISH
X-ORIGINAL-URL:https://antslakultuur.ee
X-WR-CALDESC:Events for Antsla Valla Kultuurikeskus
REFRESH-INTERVAL;VALUE=DURATION:PT1H
X-Robots-Tag:noindex
X-PUBLISHED-TTL:PT1H
BEGIN:VTIMEZONE
TZID:Europe/Helsinki
BEGIN:DAYLIGHT
TZOFFSETFROM:+0200
TZOFFSETTO:+0300
TZNAME:EEST
DTSTART:20250330T010000
END:DAYLIGHT
BEGIN:STANDARD
TZOFFSETFROM:+0300
TZOFFSETTO:+0200
TZNAME:EET
DTSTART:20251026T010000
END:STANDARD
END:VTIMEZONE
BEGIN:VEVENT
DTSTART;TZID=Europe/Helsinki:20250809T180000
DTEND;TZID=Europe/Helsinki:20250809T190000
DTSTAMP:20260420T003408
CREATED:20250715T152706Z
LAST-MODIFIED:20250715T152706Z
UID:2472-1754762400-1754766000@antslakultuur.ee
SUMMARY:VHK keelpilliorkester ja dirigent Rasmus Puur
DESCRIPTION:Augusti alguses annavad VHK keelpilliorkester ja dirigent Rasmus Puur kontserte Lõuna-Eestis. \nSissepääs TASUTA\, võimalus teha annetus orkestri toetuseks. \nVHK keelpilliorkester on 26-liikmeline Vanalinna Hariduskolleegiumi muusikakooli õpilastest koosnev orkester\, mis loodi 1996. aastal. Orkestris musitseerivad noored vanuses 14–20 ning repertuaar koosneb pea ainult eesti muusikast alates Rudolf Tobiasest\, Cyrillus Kreegist ja Mart Saarest kuni Tõnu Kõrvitsa\, Arvo Pärdi ja Erkki-Sven Tüürini. VHK keelpilliorkestril on hooajas umbkaudu 40 ülesastumist ning seda üle Eesti. Orkester on koostööd teinud mitmete inspireerivate muusikutega eri žanreist\, viimase aasta jooksul näiteks Ain Angeri\, Hans Christian Aaviku\, Maria Listra\, Harry Traksmanni\, Robert Traksmanni ja Marrit Gerretz-Traksmanni\, Eesti Rahvusmeeskoori\, Estonian Voicese\, Kadri Voorandi\, Liisi Koiksoni\, Mari Jürjensi\, Karmen Rõivassepa\, Vaiko Epliku\, Priit Võigemasti jt-ga
URL:https://antslakultuur.ee/event/vhk-keelpilliorkester-ja-dirigent-rasmus-puur/
LOCATION:Antsla Kultuurikeskus\, Kooli tee 19\, Antsla\, Võrumaa\, 66403\, Eesti
CATEGORIES:Kontsert
ATTACH;FMTTYPE=image/png:https://antslakultuur.ee/wp-content/uploads/2025/07/VHK-orkester-7.-9.08.2025_1920x1080.png
END:VEVENT
END:VCALENDAR