BEGIN:VCALENDAR
VERSION:2.0
PRODID:-//Antsla Valla Kultuurikeskus - ECPv6.3.1//NONSGML v1.0//EN
CALSCALE:GREGORIAN
METHOD:PUBLISH
X-ORIGINAL-URL:https://antslakultuur.ee
X-WR-CALDESC:Events for Antsla Valla Kultuurikeskus
REFRESH-INTERVAL;VALUE=DURATION:PT1H
X-Robots-Tag:noindex
X-PUBLISHED-TTL:PT1H
BEGIN:VTIMEZONE
TZID:Europe/Helsinki
BEGIN:DAYLIGHT
TZOFFSETFROM:+0200
TZOFFSETTO:+0300
TZNAME:EEST
DTSTART:20250330T010000
END:DAYLIGHT
BEGIN:STANDARD
TZOFFSETFROM:+0300
TZOFFSETTO:+0200
TZNAME:EET
DTSTART:20251026T010000
END:STANDARD
END:VTIMEZONE
BEGIN:VEVENT
DTSTART;TZID=Europe/Helsinki:20250817T190000
DTEND;TZID=Europe/Helsinki:20250817T210000
DTSTAMP:20260419T225306
CREATED:20250630T084800Z
LAST-MODIFIED:20250630T084800Z
UID:2465-1755457200-1755464400@antslakultuur.ee
SUMMARY:Vana Baskini Teater "Metsas ei kuule su karjumist keegi"
DESCRIPTION:Lavastaja: Eero Spriit\nMängivad: Helgi Sallo\, Katrin Karisma\, Anne Veesaar \nAnita\, Monika ja Ellen on ammused lapsepõlvesõbrannad\, nüüdseks kõik juba üle kuuekümne. Nad kohtuvad igal aastal\, et minna paariks päevaks metsa matkama\, soovides uuesti läbi elada kauneid mälestusi ning meenutada ühiselt veedetud aega. Kuid ilus unistus mõnusast ja lõdvestavast nädalavahetusest kesk loodust puruneb kiiremini\, kui keegi oleks seda ette osanud kujutada ning muutub painavaks õudusunenäoks. \nMilliseid tingimusi me sõprusele seame? Miks me suhtleme endiselt inimestega\, kes meile enam ei meeldi? Kas tõde on alati parim valik? Need südamesõbrannad räägivad küll aususest\, aga tegelikult varjavad üksteise eest vägagi palju ja valetavad nii\, et maa must.\nSee alguses naljaks ja kohati absurdi kalduv tragikomöödia võtab arenedes üha põnevamaid tuure\, tekitab veidi isegi õudu\, nagu pime mets ikka ja kulmineerub lausa kriminaalsete sündmustega. \nSooduspilet kehtib pensionäridele (ainult vanaduspensionäridele!) ja lastele vanuses 7-14 soodustust tõendava dokumendi alusel. Soodustust tõendav dokument  on vajalik kohapeal.\nLapsed alla 7.a on tasuta\, juhul kui istuvad süles. \n Tavahinnad: 32 €\, Soodushinnad: 28 €\nPiletimaailm: https://www.piletimaailm.com/performances/144111/buy?lang=et_EE\nPiletilevi: https://www.piletilevi.ee/est/piletid/teater/draama/gertrud-larsson-metsas-ei-kuule-su-karjumist-keegi-462840/
URL:https://antslakultuur.ee/event/vana-baskini-teater-metsas-ei-kuule-su-karjumist-keegi/
LOCATION:Antsla Laululava\, Antsla\, Võrumaa\, Eesti
CATEGORIES:Teater
ATTACH;FMTTYPE=image/jpeg:https://antslakultuur.ee/wp-content/uploads/2025/06/metsas-ei-kuule.jpeg
END:VEVENT
END:VCALENDAR