BEGIN:VCALENDAR
VERSION:2.0
PRODID:-//Antsla Valla Kultuurikeskus - ECPv6.3.1//NONSGML v1.0//EN
CALSCALE:GREGORIAN
METHOD:PUBLISH
X-WR-CALNAME:Antsla Valla Kultuurikeskus
X-ORIGINAL-URL:https://antslakultuur.ee
X-WR-CALDESC:Events for Antsla Valla Kultuurikeskus
REFRESH-INTERVAL;VALUE=DURATION:PT1H
X-Robots-Tag:noindex
X-PUBLISHED-TTL:PT1H
BEGIN:VTIMEZONE
TZID:Europe/Helsinki
BEGIN:DAYLIGHT
TZOFFSETFROM:+0200
TZOFFSETTO:+0300
TZNAME:EEST
DTSTART:20250330T010000
END:DAYLIGHT
BEGIN:STANDARD
TZOFFSETFROM:+0300
TZOFFSETTO:+0200
TZNAME:EET
DTSTART:20251026T010000
END:STANDARD
END:VTIMEZONE
BEGIN:VEVENT
DTSTART;TZID=Europe/Helsinki:20250901T173000
DTEND;TZID=Europe/Helsinki:20250901T183000
DTSTAMP:20260419T211357
CREATED:20250812T093853Z
LAST-MODIFIED:20250812T093853Z
UID:2483-1756747800-1756751400@antslakultuur.ee
SUMMARY:Tarkusepäeva jooks
DESCRIPTION:Lepistu koolimaja – Tsooru rahvamaja \nStardime Lepistu koolimaja eest kell 17.30\nTule jookse või kõnni!
URL:https://antslakultuur.ee/event/tarkusepaeva-jooks/
LOCATION:Tsooru Rahvamaja\, Tsooru\, Antsla vald\, Võrumaa\, Eesti
CATEGORIES:Muu
ATTACH;FMTTYPE=image/jpeg:https://antslakultuur.ee/wp-content/uploads/2025/08/Tarkusepaeva-jooks-2025.jpg
END:VEVENT
END:VCALENDAR