BEGIN:VCALENDAR
VERSION:2.0
PRODID:-//Antsla Valla Kultuurikeskus - ECPv6.3.1//NONSGML v1.0//EN
CALSCALE:GREGORIAN
METHOD:PUBLISH
X-ORIGINAL-URL:https://antslakultuur.ee
X-WR-CALDESC:Events for Antsla Valla Kultuurikeskus
REFRESH-INTERVAL;VALUE=DURATION:PT1H
X-Robots-Tag:noindex
X-PUBLISHED-TTL:PT1H
BEGIN:VTIMEZONE
TZID:Europe/Helsinki
BEGIN:DAYLIGHT
TZOFFSETFROM:+0200
TZOFFSETTO:+0300
TZNAME:EEST
DTSTART:20250330T010000
END:DAYLIGHT
BEGIN:STANDARD
TZOFFSETFROM:+0300
TZOFFSETTO:+0200
TZNAME:EET
DTSTART:20251026T010000
END:STANDARD
END:VTIMEZONE
BEGIN:VEVENT
DTSTART;TZID=Europe/Helsinki:20251003T170000
DTEND;TZID=Europe/Helsinki:20251003T190000
DTSTAMP:20260419T193521
CREATED:20250929T115620Z
LAST-MODIFIED:20250929T115620Z
UID:2656-1759510800-1759518000@antslakultuur.ee
SUMMARY:Noorte arutelu kogukonnaga
DESCRIPTION:TASUTA \nAntsla valla noortevolikogu kutsub osalema: Arutelus on kõigile kordaminevad teemad meie vallas. Noored jagavad mõtteid\, alustavad vestlust ning Sina oled oodatud kaasa rääkima ja mõtlema. Tule ja arutleme ning jõuame päris lahendusteni!
URL:https://antslakultuur.ee/event/noorte-arutelu-kogukonnaga/
LOCATION:Antsla Kultuurikeskus\, Kooli tee 19\, Antsla\, Võrumaa\, 66403\, Eesti
CATEGORIES:Muu,Vestlus
ATTACH;FMTTYPE=image/jpeg:https://antslakultuur.ee/wp-content/uploads/2025/09/552200514_18178908718344261_1128780576352931563_n.jpg
END:VEVENT
BEGIN:VEVENT
DTSTART;TZID=Europe/Helsinki:20251003T200000
DTEND;TZID=Europe/Helsinki:20251003T233000
DTSTAMP:20260419T193521
CREATED:20250825T100926Z
LAST-MODIFIED:20250825T100926Z
UID:2494-1759521600-1759534200@antslakultuur.ee
SUMMARY:Tantsuõhtu ans. IRENA ja Ivar Hansen
DESCRIPTION:pääse 10 eur \nTsooru rahvamaja kutsub tantsima ansambel IRENA ja Ivar Hanseni muusika saatel.\nreedel\, 3.oktoobril\, kell 20.00 \nLaudade broneerimine Krista 58534682\nKultuurikohvik avatud
URL:https://antslakultuur.ee/event/tantsuohtu-ans-irena-ja-ivar-hansen/
LOCATION:Tsooru Rahvamaja\, Tsooru\, Antsla vald\, Võrumaa\, Eesti
CATEGORIES:Tantsuõhtu
ATTACH;FMTTYPE=image/jpeg:https://antslakultuur.ee/wp-content/uploads/2025/08/TSOORU-TANTSUOHTU-2025-OKT.jpg
END:VEVENT
END:VCALENDAR