BEGIN:VCALENDAR
VERSION:2.0
PRODID:-//Antsla Valla Kultuurikeskus - ECPv6.3.1//NONSGML v1.0//EN
CALSCALE:GREGORIAN
METHOD:PUBLISH
X-ORIGINAL-URL:https://antslakultuur.ee
X-WR-CALDESC:Events for Antsla Valla Kultuurikeskus
REFRESH-INTERVAL;VALUE=DURATION:PT1H
X-Robots-Tag:noindex
X-PUBLISHED-TTL:PT1H
BEGIN:VTIMEZONE
TZID:Europe/Helsinki
BEGIN:DAYLIGHT
TZOFFSETFROM:+0200
TZOFFSETTO:+0300
TZNAME:EEST
DTSTART:20250330T010000
END:DAYLIGHT
BEGIN:STANDARD
TZOFFSETFROM:+0300
TZOFFSETTO:+0200
TZNAME:EET
DTSTART:20251026T010000
END:STANDARD
END:VTIMEZONE
BEGIN:VEVENT
DTSTART;TZID=Europe/Helsinki:20251010T180000
DTEND;TZID=Europe/Helsinki:20251010T193000
DTSTAMP:20260419T193429
CREATED:20250904T121509Z
LAST-MODIFIED:20250904T121509Z
UID:2584-1760119200-1760124600@antslakultuur.ee
SUMMARY:Kino "Uus raha"
DESCRIPTION:sooduspilet 5 eur\ntäispilet 6 eur \n“Ükssarviku” ja “Vaba raha” režissööri Rain Rannu viies mängufilm “Uus raha” võtab huumoripihtide vahele rahapsühholoogia ja rikas olemise. \n“Uus raha” jätkub sealt\, kus “Vaba raha” pooleli jäi – IT-spetsialist Taavi (Märt Pius) ja tema õpetajast abikaasa Liisa (Steffi Pähn) on ootamatult vastamisi küsimusega: mida teha\, kui ühel hommikul on pangakontol absurdselt suur rahasumma – ei vähem ega rohkem kui 50 miljonit eurot. \nKui “Vaba raha” käsitles krüptoajastu kullapalavikku ja tegelaste püüdlust iga hinna eest rikkaks saada\, siis “Uus raha” keskendub huumori võtmes sellele\, mis saab edasi – kuidas järsku sülle langenud õnnega hakkama saada. \nFilmi produtsendi Tõnu Hiielaidi sõnul on “Uus raha” muhe komöödia sellest\, kuidas raha võib inimesi ja suhteid muuta – või siis näitab ta üsna täpselt\, milline sa juba olid. Hiielaidi sõnul on “Uus raha” lõbus ja äratundmisrõõmu pakkuv vaatamine laiale publikule\, mis ei vaja nautimiseks eelmise filmiga kursis olemist. \nFilmis löövad kaasa teiste seas Elina Masing (artistina tuntud kui Valge Tüdruk)\, Edgar Vunš (Mr. Maze filmist “Pikad paberid”)\, Ivo Uukkivi\, Henrik Kalmet\, Rasmus Kaljujärv\, Hanna Martinson\, Jim Ashlevi\, Mikk ja Mari Jürjens ning paljud teised. \nFilmi operaator on Ants Tammik\, kunstnikud Tõnu Hiielaid ja Urmet Piiling\, helirežissöör Markus Andreas\, monteerijad Rain Rannu ja Moonika Raidam\, heliloojad Janek Murd\, DEW8 ning Bert On Beats ja produtsendid Tõnu Hiielaid ja Rain Rannu. \nFilmi tootja ja levitaja on Tallifornia\, kelle varasemateks mängufilmideks on “Pikad paberid”\, “Mind on kaks” „Tulnukas 2” ja „Vaba raha”. Tallifornia filmifondi kaasabil on valminud “Fränk” ning “Nähtamatu võitlus”.
URL:https://antslakultuur.ee/event/kino-uus-raha/
LOCATION:Antsla Kultuurikeskus\, Kooli tee 19\, Antsla\, Võrumaa\, 66403\, Eesti
CATEGORIES:Kino
ATTACH;FMTTYPE=image/png:https://antslakultuur.ee/wp-content/uploads/2025/09/Uus-raha-1080x1350-1.png
ORGANIZER;CN="Antsla Kultuurikeskus":MAILTO:kultuur@antsla.ee
END:VEVENT
END:VCALENDAR