BEGIN:VCALENDAR
VERSION:2.0
PRODID:-//Antsla Valla Kultuurikeskus - ECPv6.3.1//NONSGML v1.0//EN
CALSCALE:GREGORIAN
METHOD:PUBLISH
X-WR-CALNAME:Antsla Valla Kultuurikeskus
X-ORIGINAL-URL:https://antslakultuur.ee
X-WR-CALDESC:Events for Antsla Valla Kultuurikeskus
REFRESH-INTERVAL;VALUE=DURATION:PT1H
X-Robots-Tag:noindex
X-PUBLISHED-TTL:PT1H
BEGIN:VTIMEZONE
TZID:Europe/Helsinki
BEGIN:DAYLIGHT
TZOFFSETFROM:+0200
TZOFFSETTO:+0300
TZNAME:EEST
DTSTART:20250330T010000
END:DAYLIGHT
BEGIN:STANDARD
TZOFFSETFROM:+0300
TZOFFSETTO:+0200
TZNAME:EET
DTSTART:20251026T010000
END:STANDARD
END:VTIMEZONE
BEGIN:VEVENT
DTSTART;VALUE=DATE:20251020
DTEND;VALUE=DATE:20251028
DTSTAMP:20260419T193321
CREATED:20251013T115710Z
LAST-MODIFIED:20251013T115710Z
UID:2671-1760929200-1761533999@antslakultuur.ee
SUMMARY:Rahvamajade nädal "Rahvamaja loeb!"
DESCRIPTION:20.–26. oktoobril toimub neljandat korda üle-eestiline Eestimaa rahvamajade nädal\, mis toob esile meie rahvamajade olulisuse ja nende mitmekülgse rolli kogukonnas.\n🏛📚Seekord kannab nädal tähendusrikast teemat “Rahvamaja loeb!”\, mis on pühendatud Eesti raamatu aastale\, kuid viitab ka laiemalt rahvamajade tähtsusele kogukondades📖🏛
URL:https://antslakultuur.ee/event/rahvamajade-nadal-rahvamaja-loeb/
LOCATION:Antsla Kultuurikeskus\, Kooli tee 19\, Antsla\, Võrumaa\, 66403\, Eesti
ATTACH;FMTTYPE=image/jpeg:https://antslakultuur.ee/wp-content/uploads/2025/10/AVKK-rahvamajade-ndl-2025.jpg
END:VEVENT
BEGIN:VEVENT
DTSTART;TZID=Europe/Helsinki:20251023T190000
DTEND;TZID=Europe/Helsinki:20251023T203000
DTSTAMP:20260419T193321
CREATED:20251002T123427Z
LAST-MODIFIED:20251002T123427Z
UID:2663-1761246000-1761251400@antslakultuur.ee
SUMMARY:Kino Tsoorus “Ühemõõtmeline mees “
DESCRIPTION:Pilet 6 eur/5 eur \nAndres Puustusmaa värskeim film „Ühemõõtmeline mees“ on kaasahaarav ja mõjuv spioonipõnevik\, milles teevad kaasa meie tipp-näitlejad. \nLoo peategelane Raul (Juhan Ulfsak) elab halli elu\, proovides jääda kõikjal nähtamatuks. Tema isa (Mait Malmsten) on endine KGB ohvitser\, kes on hävitanud patoloogilise armukadedusega oma naise (Jaanika Arum) elu ja kujundanud pojast riigireeturi. Aastaid on Rauli vaevanud teadmatus emast ja aastaid on ta kuuleka „kullerina“ jätnud peidikutesse riiklike saladustega informatsiooni. \nViimaselt ülesandelt koju minnes\, satub Raul tänaval peale jõhkrale peksmisele. Ohver on hiinlanna (Yang Ge)\, kelle mees on hoole alla võtab ja algab nende kahe ühise keele otsimine ja teekond Hiina. \nFilmi tegevus toimub paralleelselt 80ndatel ja tänapäeval. Lapseea Rauli rollis teeb suurepärase soorituse Leonard Puustusmaa\, noormehe eas Rauli kehastab Franz Malmsten. \nAndres Puustusmaa („Kohtunik“\, „Rohelised kassid“\, „Punane elavhõbe”\, “18-14”) sõnul on pealkiri laenatud Herbert Marcuse raamatult. See on film sellisest inimesest\, kes on ära kadunud põlvkondade vahele.
URL:https://antslakultuur.ee/event/kino-tsoorus-uhemootmeline-mees/
LOCATION:Tsooru Rahvamaja\, Tsooru\, Antsla vald\, Võrumaa\, Eesti
CATEGORIES:Kino
ATTACH;FMTTYPE=image/jpeg:https://antslakultuur.ee/wp-content/uploads/2025/09/Uhemootmeline_mees_poster-scaled.jpg
END:VEVENT
BEGIN:VEVENT
DTSTART;TZID=Europe/Helsinki:20251023T193000
DTEND;TZID=Europe/Helsinki:20251023T203000
DTSTAMP:20260419T193321
CREATED:20250916T091102Z
LAST-MODIFIED:20250923T113805Z
UID:2622-1761247800-1761251400@antslakultuur.ee
SUMMARY:Krahvi Teater "Mudari Mari musirull"
DESCRIPTION:pilet eelmüügis 7 eur/ kohapeal 10 eur \nhttps://fienta.com/et/krahvi-teater-mudari-mari-musirull
URL:https://antslakultuur.ee/event/krahvi-teater-mudari-mari-musirull/
LOCATION:Antsla Kultuurikeskus\, Kooli tee 19\, Antsla\, Võrumaa\, 66403\, Eesti
CATEGORIES:Teater
ATTACH;FMTTYPE=image/png:https://antslakultuur.ee/wp-content/uploads/2025/09/Mudari-Mari-musirulll-3.png
END:VEVENT
END:VCALENDAR