BEGIN:VCALENDAR
VERSION:2.0
PRODID:-//Antsla Valla Kultuurikeskus - ECPv6.3.1//NONSGML v1.0//EN
CALSCALE:GREGORIAN
METHOD:PUBLISH
X-WR-CALNAME:Antsla Valla Kultuurikeskus
X-ORIGINAL-URL:https://antslakultuur.ee
X-WR-CALDESC:Events for Antsla Valla Kultuurikeskus
REFRESH-INTERVAL;VALUE=DURATION:PT1H
X-Robots-Tag:noindex
X-PUBLISHED-TTL:PT1H
BEGIN:VTIMEZONE
TZID:Europe/Helsinki
BEGIN:DAYLIGHT
TZOFFSETFROM:+0200
TZOFFSETTO:+0300
TZNAME:EEST
DTSTART:20250330T010000
END:DAYLIGHT
BEGIN:STANDARD
TZOFFSETFROM:+0300
TZOFFSETTO:+0200
TZNAME:EET
DTSTART:20251026T010000
END:STANDARD
END:VTIMEZONE
BEGIN:VEVENT
DTSTART;VALUE=DATE:20251020
DTEND;VALUE=DATE:20251028
DTSTAMP:20260419T193320
CREATED:20251013T115710Z
LAST-MODIFIED:20251013T115710Z
UID:2671-1760929200-1761533999@antslakultuur.ee
SUMMARY:Rahvamajade nädal "Rahvamaja loeb!"
DESCRIPTION:20.–26. oktoobril toimub neljandat korda üle-eestiline Eestimaa rahvamajade nädal\, mis toob esile meie rahvamajade olulisuse ja nende mitmekülgse rolli kogukonnas.\n🏛📚Seekord kannab nädal tähendusrikast teemat “Rahvamaja loeb!”\, mis on pühendatud Eesti raamatu aastale\, kuid viitab ka laiemalt rahvamajade tähtsusele kogukondades📖🏛
URL:https://antslakultuur.ee/event/rahvamajade-nadal-rahvamaja-loeb/
LOCATION:Antsla Kultuurikeskus\, Kooli tee 19\, Antsla\, Võrumaa\, 66403\, Eesti
ATTACH;FMTTYPE=image/jpeg:https://antslakultuur.ee/wp-content/uploads/2025/10/AVKK-rahvamajade-ndl-2025.jpg
END:VEVENT
BEGIN:VEVENT
DTSTART;TZID=Europe/Helsinki:20251025T120000
DTEND;TZID=Europe/Helsinki:20251025T140000
DTSTAMP:20260419T193320
CREATED:20251013T123317Z
LAST-MODIFIED:20251013T123317Z
UID:2674-1761393600-1761400800@antslakultuur.ee
SUMMARY:Kipsi valamine
DESCRIPTION:Laupäeval 25.oktoobril kell 12:00 Uue-Antsla Rahvamajas kipsi valamine.\n20eurot\, iga järgnev toode 5 eurot.\nJuhendaja: Katri Kurs (fb Kursikum)\nBroneerimiseks kirjuta Postkasti või helista Kätlin tel 55901116\nKestvus 1\,5h-2h.
URL:https://antslakultuur.ee/event/kipsi-valamine/
LOCATION:Uue-Antsla Rahvamaja\, Uue-Antsla\, Antsla vald\, Võrumaa\, Eesti
CATEGORIES:Huvitegevus
ATTACH;FMTTYPE=image/jpeg:https://antslakultuur.ee/wp-content/uploads/2025/10/552704064_1343001971169424_7825803598923272243_n.jpg
END:VEVENT
BEGIN:VEVENT
DTSTART;TZID=Europe/Helsinki:20251025T140000
DTEND;TZID=Europe/Helsinki:20251025T170000
DTSTAMP:20260419T193320
CREATED:20250929T120143Z
LAST-MODIFIED:20250929T120143Z
UID:2659-1761400800-1761411600@antslakultuur.ee
SUMMARY:Teater "Viimasel minutil"
DESCRIPTION:pilet 15 eur\nsooduspilet 10 eur \nCarin Mannerheimi näidend Võhma Seltsimaja näiteringi esituses. Väärikas ja humoorikas vananemine on vajalik\, teraapiline\, julgustav teema\, mis kõnetab neid\, kes seda omal nahal kogenud\, aga ka nooremaid\, sest neil on vanemad. Komöödiavõtmes südamest naerma ajav tekstihuumor\, karakterite uperpallid ja situatsioonikoomika iseloomustab lavastust\, mis 2015.aastal Draamateatri repertuaaris publikumagnet oli.
URL:https://antslakultuur.ee/event/teater-viimasel-minutil/
LOCATION:Tsooru Rahvamaja\, Tsooru\, Antsla vald\, Võrumaa\, Eesti
CATEGORIES:Teater
ATTACH;FMTTYPE=image/png:https://antslakultuur.ee/wp-content/uploads/2025/09/Vosu-plakat.png.png
END:VEVENT
END:VCALENDAR