BEGIN:VCALENDAR
VERSION:2.0
PRODID:-//Antsla Valla Kultuurikeskus - ECPv6.3.1//NONSGML v1.0//EN
CALSCALE:GREGORIAN
METHOD:PUBLISH
X-ORIGINAL-URL:https://antslakultuur.ee
X-WR-CALDESC:Events for Antsla Valla Kultuurikeskus
REFRESH-INTERVAL;VALUE=DURATION:PT1H
X-Robots-Tag:noindex
X-PUBLISHED-TTL:PT1H
BEGIN:VTIMEZONE
TZID:Europe/Helsinki
BEGIN:DAYLIGHT
TZOFFSETFROM:+0200
TZOFFSETTO:+0300
TZNAME:EEST
DTSTART:20250330T010000
END:DAYLIGHT
BEGIN:STANDARD
TZOFFSETFROM:+0300
TZOFFSETTO:+0200
TZNAME:EET
DTSTART:20251026T010000
END:STANDARD
END:VTIMEZONE
BEGIN:VEVENT
DTSTART;TZID=Europe/Helsinki:20251102T140000
DTEND;TZID=Europe/Helsinki:20251102T170000
DTSTAMP:20260421T124522
CREATED:20250915T101743Z
LAST-MODIFIED:20250915T101743Z
UID:2599-1762092000-1762102800@antslakultuur.ee
SUMMARY:Tsooru mälumängur 2025-2026
DESCRIPTION:
URL:https://antslakultuur.ee/event/tsooru-malumangur-2025-2026-2/
LOCATION:Tsooru Rahvamaja\, Tsooru\, Antsla vald\, Võrumaa\, Eesti
CATEGORIES:Mälumäng
ATTACH;FMTTYPE=image/jpeg:https://antslakultuur.ee/wp-content/uploads/2025/09/TsooruMALUMANGUR-2025-2026.jpg
END:VEVENT
END:VCALENDAR