BEGIN:VCALENDAR
VERSION:2.0
PRODID:-//Antsla Valla Kultuurikeskus - ECPv6.3.1//NONSGML v1.0//EN
CALSCALE:GREGORIAN
METHOD:PUBLISH
X-WR-CALNAME:Antsla Valla Kultuurikeskus
X-ORIGINAL-URL:https://antslakultuur.ee
X-WR-CALDESC:Events for Antsla Valla Kultuurikeskus
REFRESH-INTERVAL;VALUE=DURATION:PT1H
X-Robots-Tag:noindex
X-PUBLISHED-TTL:PT1H
BEGIN:VTIMEZONE
TZID:Europe/Helsinki
BEGIN:DAYLIGHT
TZOFFSETFROM:+0200
TZOFFSETTO:+0300
TZNAME:EEST
DTSTART:20250330T010000
END:DAYLIGHT
BEGIN:STANDARD
TZOFFSETFROM:+0300
TZOFFSETTO:+0200
TZNAME:EET
DTSTART:20251026T010000
END:STANDARD
END:VTIMEZONE
BEGIN:VEVENT
DTSTART;TZID=Europe/Helsinki:20251115T120000
DTEND;TZID=Europe/Helsinki:20251115T170000
DTSTAMP:20260421T124422
CREATED:20251103T150142Z
LAST-MODIFIED:20251103T150142Z
UID:2689-1763208000-1763226000@antslakultuur.ee
SUMMARY:Kipsi valamine
DESCRIPTION:Laupäeval 15.november kell 12:00 Uue-Antsla Rahvamajas kipsi valamine.\n20eurot\, iga järgnev toode 5 eurot.\nJuhendaja: Katri Kurs (fb Kursikum)\nBroneerimiseks kirjuta Postkasti või helista Kätlin tel 55901116\nKestvus 1\,5h-2h.
URL:https://antslakultuur.ee/event/kipsi-valamine-2/
LOCATION:Uue-Antsla Rahvamaja\, Uue-Antsla\, Antsla vald\, Võrumaa\, Eesti
CATEGORIES:Muu
ATTACH;FMTTYPE=image/png:https://antslakultuur.ee/wp-content/uploads/2025/11/KIPSI-VALAMINE.png
END:VEVENT
BEGIN:VEVENT
DTSTART;TZID=Europe/Helsinki:20251115T200000
DTEND;TZID=Europe/Helsinki:20251115T233000
DTSTAMP:20260421T124422
CREATED:20250915T120419Z
LAST-MODIFIED:20251014T081654Z
UID:2604-1763236800-1763249400@antslakultuur.ee
SUMMARY:Tantsuõhtu ansambliga Raen Väikene
DESCRIPTION:Pilet eelmüügist 12 eurot\, kohapeal 15 eur\nFienta tantsuohtu-ansambliga-raen-vaikene\navatud kultuurikohvik
URL:https://antslakultuur.ee/event/tantsuohtu-ansambliga-raen-vaikene/
LOCATION:Tsooru Rahvamaja\, Tsooru\, Antsla vald\, Võrumaa\, Eesti
CATEGORIES:Tantsuõhtu
ATTACH;FMTTYPE=image/jpeg:https://antslakultuur.ee/wp-content/uploads/2025/09/raen-vaikene-tantsuohtu-1.jpg
END:VEVENT
END:VCALENDAR