BEGIN:VCALENDAR
VERSION:2.0
PRODID:-//Antsla Valla Kultuurikeskus - ECPv6.3.1//NONSGML v1.0//EN
CALSCALE:GREGORIAN
METHOD:PUBLISH
X-WR-CALNAME:Antsla Valla Kultuurikeskus
X-ORIGINAL-URL:https://antslakultuur.ee
X-WR-CALDESC:Events for Antsla Valla Kultuurikeskus
REFRESH-INTERVAL;VALUE=DURATION:PT1H
X-Robots-Tag:noindex
X-PUBLISHED-TTL:PT1H
BEGIN:VTIMEZONE
TZID:Europe/Helsinki
BEGIN:DAYLIGHT
TZOFFSETFROM:+0200
TZOFFSETTO:+0300
TZNAME:EEST
DTSTART:20250330T010000
END:DAYLIGHT
BEGIN:STANDARD
TZOFFSETFROM:+0300
TZOFFSETTO:+0200
TZNAME:EET
DTSTART:20251026T010000
END:STANDARD
END:VTIMEZONE
BEGIN:VEVENT
DTSTART;TZID=Europe/Helsinki:20251207T110000
DTEND;TZID=Europe/Helsinki:20251207T150000
DTSTAMP:20260421T143205
CREATED:20251117T143422Z
LAST-MODIFIED:20251117T143422Z
UID:2711-1765105200-1765119600@antslakultuur.ee
SUMMARY:Jõululaat Linda rahvamajas
DESCRIPTION:Registreeri end müüjaks:\nviljar.kavant@antsla.ee\n5830 9541 \nmüügil erinevad tooted söögist riieteni\nlasteala batuutidega\navatud kohvik\nelav muusika
URL:https://antslakultuur.ee/event/joululaat-linda-rahvamajas/
LOCATION:Linda Rahvamaja\, Kesk 9\, Kobela\, Eesti
CATEGORIES:Jõulud,Laat
ATTACH;FMTTYPE=image/jpeg:https://antslakultuur.ee/wp-content/uploads/2025/11/Joululaat-Lindas.jpg
END:VEVENT
BEGIN:VEVENT
DTSTART;TZID=Europe/Helsinki:20251207T140000
DTEND;TZID=Europe/Helsinki:20251207T170000
DTSTAMP:20260421T143205
CREATED:20250915T101842Z
LAST-MODIFIED:20250915T101842Z
UID:2602-1765116000-1765126800@antslakultuur.ee
SUMMARY:Tsooru mälumängur 2025-2026
DESCRIPTION:
URL:https://antslakultuur.ee/event/tsooru-malumangur-2025-2026-3/
LOCATION:Tsooru Rahvamaja\, Tsooru\, Antsla vald\, Võrumaa\, Eesti
CATEGORIES:Mälumäng
ATTACH;FMTTYPE=image/jpeg:https://antslakultuur.ee/wp-content/uploads/2025/09/TsooruMALUMANGUR-2025-2026.jpg
END:VEVENT
END:VCALENDAR