BEGIN:VCALENDAR
VERSION:2.0
PRODID:-//Antsla Valla Kultuurikeskus - ECPv6.3.1//NONSGML v1.0//EN
CALSCALE:GREGORIAN
METHOD:PUBLISH
X-WR-CALNAME:Antsla Valla Kultuurikeskus
X-ORIGINAL-URL:https://antslakultuur.ee
X-WR-CALDESC:Events for Antsla Valla Kultuurikeskus
REFRESH-INTERVAL;VALUE=DURATION:PT1H
X-Robots-Tag:noindex
X-PUBLISHED-TTL:PT1H
BEGIN:VTIMEZONE
TZID:Europe/Helsinki
BEGIN:DAYLIGHT
TZOFFSETFROM:+0200
TZOFFSETTO:+0300
TZNAME:EEST
DTSTART:20250330T010000
END:DAYLIGHT
BEGIN:STANDARD
TZOFFSETFROM:+0300
TZOFFSETTO:+0200
TZNAME:EET
DTSTART:20251026T010000
END:STANDARD
END:VTIMEZONE
BEGIN:VEVENT
DTSTART;TZID=Europe/Helsinki:20251227T200000
DTEND;TZID=Europe/Helsinki:20251227T200000
DTSTAMP:20260421T143148
CREATED:20251014T061451Z
LAST-MODIFIED:20251014T061451Z
UID:2678-1766865600-1766865600@antslakultuur.ee
SUMMARY:Aastalõpu tantsuõhtu ansambliga Kapriiz
DESCRIPTION:Kui pikad jõulupühad seljataga on paras aeg tulla Uue-Antsla Rahvamajja ja pidutseda koos ansambliga Kapriiz. Saadame aasta ära ja tähistame Kapriizi 10.aasta juubelit.\nEELMÜÜGIST piletiostjate vahel loosime välja Paksu Poisi Pubi baarikrediiti\nPiletid – https://fienta.com/et/aastalopu-tantsuohtu-ansambliga-kapriiz\nLaudade broneerimine ja info Kätlin Telf: 55901116
URL:https://antslakultuur.ee/event/aastalopu-tantsuohtu-ansambliga-kapriiz/
LOCATION:Uue-Antsla Rahvamaja\, Uue-Antsla\, Antsla vald\, Võrumaa\, Eesti
ATTACH;FMTTYPE=image/png:https://antslakultuur.ee/wp-content/uploads/2025/10/kapriiz-uue-antsla-2025-2.png
END:VEVENT
END:VCALENDAR