BEGIN:VCALENDAR
VERSION:2.0
PRODID:-//Antsla Valla Kultuurikeskus - ECPv6.3.1//NONSGML v1.0//EN
CALSCALE:GREGORIAN
METHOD:PUBLISH
X-ORIGINAL-URL:https://antslakultuur.ee
X-WR-CALDESC:Events for Antsla Valla Kultuurikeskus
REFRESH-INTERVAL;VALUE=DURATION:PT1H
X-Robots-Tag:noindex
X-PUBLISHED-TTL:PT1H
BEGIN:VTIMEZONE
TZID:Europe/Helsinki
BEGIN:DAYLIGHT
TZOFFSETFROM:+0200
TZOFFSETTO:+0300
TZNAME:EEST
DTSTART:20260329T010000
END:DAYLIGHT
BEGIN:STANDARD
TZOFFSETFROM:+0300
TZOFFSETTO:+0200
TZNAME:EET
DTSTART:20261025T010000
END:STANDARD
END:VTIMEZONE
BEGIN:VEVENT
DTSTART;TZID=Europe/Helsinki:20260513T180000
DTEND;TZID=Europe/Helsinki:20260513T183000
DTSTAMP:20260421T175303
CREATED:20260415T142636Z
LAST-MODIFIED:20260420T092948Z
UID:2902-1778695200-1778697000@antslakultuur.ee
SUMMARY:Kuldre Kooli muusikal: \,\,Epic: The Musical"
DESCRIPTION:TASUTA \nKuldre Kooli 7. klassi õpilase Kristen Laaneviiri loovtöö raames valminud etendus nimega \,\,Epic: The Musical”\, mis on Jorge Rivera-Herransi loodud muusikaline mugandus Homerose eeposest “Odüsseia”.  \nSee on kontseptuaalne albumite sari\, mis järgib Odysseuse kümneaastast rännakut koju Ithakasse pärast Trooja sõda\, keskendudes tema kohtumistele mütoloogiliste olenditega ja tema sisemisele võitlusele selle vahel\, kas jääda halastavaks meheks või muutuda “koletiseks”\, et ellu jääda. \,\,Epic: The Musical on tehtud 9 erinevaks osaks\, Kristeni loovtöös näeme me kahte esimest osa – \,\,The Troy Saga’’ ja \,\,The Cyclops Saga’’. \nMuusikalise etenduse aitasid Kristenil lavale tuua sõbrad näiteringist ja juhendaja Agnes Kirsbaum.
URL:https://antslakultuur.ee/event/kuldre-kooli-muusikal-epic-the-musical/
LOCATION:Antsla Kultuurikeskus\, Kooli tee 19\, Antsla\, Võrumaa\, 66403\, Eesti
CATEGORIES:Teater
ATTACH;FMTTYPE=image/jpeg:https://antslakultuur.ee/wp-content/uploads/2026/04/Epic-1-scaled.jpg
ORGANIZER;CN="Antsla Kultuurikeskus":MAILTO:kultuur@antsla.ee
END:VEVENT
END:VCALENDAR