BEGIN:VCALENDAR
VERSION:2.0
PRODID:-//Antsla Valla Kultuurikeskus - ECPv6.3.1//NONSGML v1.0//EN
CALSCALE:GREGORIAN
METHOD:PUBLISH
X-ORIGINAL-URL:https://antslakultuur.ee
X-WR-CALDESC:Events for Antsla Valla Kultuurikeskus
REFRESH-INTERVAL;VALUE=DURATION:PT1H
X-Robots-Tag:noindex
X-PUBLISHED-TTL:PT1H
BEGIN:VTIMEZONE
TZID:Europe/Helsinki
BEGIN:DAYLIGHT
TZOFFSETFROM:+0200
TZOFFSETTO:+0300
TZNAME:EEST
DTSTART:20260329T010000
END:DAYLIGHT
BEGIN:STANDARD
TZOFFSETFROM:+0300
TZOFFSETTO:+0200
TZNAME:EET
DTSTART:20261025T010000
END:STANDARD
END:VTIMEZONE
BEGIN:VEVENT
DTSTART;TZID=Europe/Helsinki:20260504T190000
DTEND;TZID=Europe/Helsinki:20260504T190000
DTSTAMP:20260421T140720
CREATED:20260414T075657Z
LAST-MODIFIED:20260414T075657Z
UID:2895-1777921200-1777921200@antslakultuur.ee
SUMMARY:Kino Tsoorus "Svingerid 2"
DESCRIPTION:pilet 6 eur\, sooduspilet 5 eur \n“Svingerid 2” on 2017. aastal Eesti kinosid vallutanud muretu komöödia järg\, kus esimesest filmist tuttavad tegelased püüavad muutuvate aegadega sammu pidada ja samas vaadata\, et neil endil oleks ikka piisavalt aega sellele\, mis elus tegelikult tähtis on.
URL:https://antslakultuur.ee/event/kino-tsoorus-svingerid-2/
LOCATION:Tsooru Rahvamaja\, Tsooru\, Antsla vald\, Võrumaa\, Eesti
CATEGORIES:Kino
ATTACH;FMTTYPE=image/jpeg:https://antslakultuur.ee/wp-content/uploads/2026/04/tsooru-svingerid2.jpg
END:VEVENT
END:VCALENDAR