BEGIN:VCALENDAR
VERSION:2.0
PRODID:-//Antsla Valla Kultuurikeskus - ECPv6.3.1//NONSGML v1.0//EN
CALSCALE:GREGORIAN
METHOD:PUBLISH
X-ORIGINAL-URL:https://antslakultuur.ee
X-WR-CALDESC:Events for Antsla Valla Kultuurikeskus
REFRESH-INTERVAL;VALUE=DURATION:PT1H
X-Robots-Tag:noindex
X-PUBLISHED-TTL:PT1H
BEGIN:VTIMEZONE
TZID:Europe/Helsinki
BEGIN:DAYLIGHT
TZOFFSETFROM:+0200
TZOFFSETTO:+0300
TZNAME:EEST
DTSTART:20260329T010000
END:DAYLIGHT
BEGIN:STANDARD
TZOFFSETFROM:+0300
TZOFFSETTO:+0200
TZNAME:EET
DTSTART:20261025T010000
END:STANDARD
END:VTIMEZONE
BEGIN:VEVENT
DTSTART;TZID=Europe/Helsinki:20260516T090000
DTEND;TZID=Europe/Helsinki:20260516T140000
DTSTAMP:20260420T091349
CREATED:20260331T122446Z
LAST-MODIFIED:20260414T082424Z
UID:2879-1778922000-1778940000@antslakultuur.ee
SUMMARY:Tsooru kevadlaat 2026
DESCRIPTION:Info ja laadale registreerumine : Krista 5853 4682 \nTaimed\, toit\, käsitöö-ja rõivakaubad ning kultuuriprogramm Tsooru rahvamaja juures
URL:https://antslakultuur.ee/event/tsooru-kevadlaat-2026/
LOCATION:Tsooru Rahvamaja\, Tsooru\, Antsla vald\, Võrumaa\, Eesti
CATEGORIES:Laat
ATTACH;FMTTYPE=image/jpeg:https://antslakultuur.ee/wp-content/uploads/2026/03/Tsooru-kevadlaat-pikuti-2026-1.jpg
END:VEVENT
BEGIN:VEVENT
DTSTART;TZID=Europe/Helsinki:20260523T153000
DTEND;TZID=Europe/Helsinki:20260523T173000
DTSTAMP:20260420T091349
CREATED:20260417T113924Z
LAST-MODIFIED:20260417T121921Z
UID:2906-1779550200-1779557400@antslakultuur.ee
SUMMARY:Võrumaa memme-taadi pidu "Elo om iks nii hää"
DESCRIPTION:TASUTA! \nKas otsid maikuu laupäevaks kevadist ja südantsoojendavat elamust kogu perele? Tule ja saa osa põlvkondadeülesest rõõmust\, kus elukogemus kohtub tantsusammu ja lauluhäälega! \nTantsivad ja laulavad Võru maakonna memmed-taadid. \nKorraldaja: Antsla Valla Kultuurikeskus. \nPeo on lavastanud Tiiu Kungus\, Elin Lihten ja Linda Kapp.
URL:https://antslakultuur.ee/event/vorumaa-memme-taadi-pidu-elo-om-iks-nii-haa/
LOCATION:Antsla Laululava\, Antsla\, Võrumaa\, Eesti
CATEGORIES:Muu
ATTACH;FMTTYPE=image/jpeg:https://antslakultuur.ee/wp-content/uploads/2026/04/memme-taadi-pidu-2026-Fb-sundmus-1.jpg
END:VEVENT
END:VCALENDAR