BEGIN:VCALENDAR
VERSION:2.0
PRODID:-//Antsla Valla Kultuurikeskus - ECPv6.3.1//NONSGML v1.0//EN
CALSCALE:GREGORIAN
METHOD:PUBLISH
X-WR-CALNAME:Antsla Valla Kultuurikeskus
X-ORIGINAL-URL:https://antslakultuur.ee
X-WR-CALDESC:Events for Antsla Valla Kultuurikeskus
REFRESH-INTERVAL;VALUE=DURATION:PT1H
X-Robots-Tag:noindex
X-PUBLISHED-TTL:PT1H
BEGIN:VTIMEZONE
TZID:Europe/Helsinki
BEGIN:DAYLIGHT
TZOFFSETFROM:+0200
TZOFFSETTO:+0300
TZNAME:EEST
DTSTART:20220327T010000
END:DAYLIGHT
BEGIN:STANDARD
TZOFFSETFROM:+0300
TZOFFSETTO:+0200
TZNAME:EET
DTSTART:20221030T010000
END:STANDARD
END:VTIMEZONE
BEGIN:VEVENT
DTSTART;TZID=Europe/Helsinki:20220504T190000
DTEND;TZID=Europe/Helsinki:20220504T204000
DTSTAMP:20260421T010036
CREATED:20220406T105531Z
LAST-MODIFIED:20220406T105531Z
UID:654-1651690800-1651696800@antslakultuur.ee
SUMMARY:Kino: Apteeker Melchior
DESCRIPTION:Keskaegses Tallinnas mõrvatakse kuulus ordurüütel\, kes vabastas Läänemere piraatidest. Kangelase pea on maha raiutud ja suu münte täis topitud. Kadunud on kuldkett\, mille ta samal päeval ostis.\nKohtufoogt määrab kuritegu uurima apteeker Melchiori\, kes oskavat koolnutega rääkida. Nutikas noormees avastab\, et tapetu otsis müstilist „Tallinna vangi“ ja jäljed viivad dominiiklaste kloostrisse. Vallandub vapustav veretööde jada – surmaohus on igaüks\, kes selle saladusega kokku puutub.\nSamal ajal tärkavad apteekris kahtlused oma õpipoisi osas\, kes näib midagi varjavat…\nMängufilm Apteeker Melchior põhineb raamatumüügi edetabelite tipust tuntud Apteeker Melchiori romaanidel. Stsenaristid Indrek Hargla\, Elmo Nüganen ja Olle Mirme põimisid filmi stsenaariumis raamatust “Apteeker Melchior ja Oleviste mõistatus” tuntud tegelased ja sündmused täiesti uute ja põnevate\, filmi jaoks loodud keerdkäikudega.\nOsades: Märten Metsaviir\, Maarja Johanna Mägi\, Alo Kõrve\, Henessi Schmidt\, Franz Malmsten\, Andero Ermel\, Ken Rüütel\, Mait Malmsten\, Hendrik Toompere\, Marko Matvere jpt.\nFilmi režissöör on Elmo Nüganen („1944“)\, produtsentideks on Taska Film („Nimed Marmortahvlil“)\, Nafta Films („O2“)\, Apollo Film Productions („Talve“) ja HansaFilm („Tõde ja õigus“). Apteeker Melchiori film valmib Eesti-Saksa-Läti-Leedu koostöös\, kaastootjateks on Maze Productions Saksamaalt\, Film Angels Productions Lätist ja InScript Leedust. Operaator Mihkel Soe\, kunstnik Matis Mäesalu\, monteerija Marion Koppel\, helilooja Liina Sumera\, eriefektide juht Jan Viljus.
URL:https://antslakultuur.ee/event/kino-apteeker-melchior-2/
LOCATION:Tsooru Rahvamaja\, Tsooru\, Antsla vald\, Võrumaa\, Eesti
CATEGORIES:Kino
ATTACH;FMTTYPE=image/jpeg:https://antslakultuur.ee/wp-content/uploads/2022/04/Melchior_1920x1080px.jpg
END:VEVENT
BEGIN:VEVENT
DTSTART;TZID=Europe/Helsinki:20220505T100000
DTEND;TZID=Europe/Helsinki:20220505T104500
DTSTAMP:20260421T010036
CREATED:20220425T114316Z
LAST-MODIFIED:20220426T105614Z
UID:678-1651744800-1651747500@antslakultuur.ee
SUMMARY:Jutuvestmis-etendus Pikk tige vanaeit
DESCRIPTION:Head eesti muinasjutud uues võtmes! See teatritükk on maiuspala igas vanuses jutuhuvilistele\, kes on valmis kohtuma lugudega elust ja surmast\, noortest ja vanadest\, sõpradest ning vaenlastest. Kes tahavad\, et laval kogu aeg midagi juhtuks – midagi naljakat\, jubedat\, tobedat\, üllatavat või liigutavat.  Me mõtlesime neid lugusid tehes eelkõige noortele 9+\, kes võib olla enam muinasjutte ei loe\, kuid äkki meil õnnestub neid üllatada! \nLaval näitleja\, jutuvestja Liia Kanemägi\nLavastaja Jaanika Juhanson\, kunstnik Sander Põldsaar\, muusikaline kujundus Tarmo Kivisilla\nTehniline heli- ja valguslahendus Mait Visnapuu\n45 minutit\, eesti keeles \nVaataja ees rulluvad jutuvestmise ning haaravate muusikaliste piltide toel lahti mõnusa huumoriga vanad lood koolnutest\, inim-ussidest\, sõbralikust Surmast…Lood\, kus ennast maagiliste olendite ja muinasjututegelaste taga peidavad täiesti tavalised inimesed. Need\, kes teevad vahel valikuid\, mis pole arukad\, otsuseid\, mis on isekad. Eksivad ja püüavad parandada oma vigu. Saavad üle läbipääsmatutena tunduvatest takistustest ja panevad meid uskuma\, et lõpuks võidab ikkagi hea.
URL:https://antslakultuur.ee/event/jutuvestmis-etendus-pikk-tige-vanaeit/
LOCATION:Antsla Kultuurikeskus\, Kooli tee 19\, Antsla\, Võrumaa\, 66403\, Eesti
CATEGORIES:Teater
ATTACH;FMTTYPE=image/jpeg:https://antslakultuur.ee/wp-content/uploads/2022/04/Avapilt-PTV.jpg
ORGANIZER;CN="Antsla Kultuurikeskus":MAILTO:kultuur@antsla.ee
END:VEVENT
BEGIN:VEVENT
DTSTART;TZID=Europe/Helsinki:20220505T110000
DTEND;TZID=Europe/Helsinki:20220505T114500
DTSTAMP:20260421T010036
CREATED:20220425T114632Z
LAST-MODIFIED:20220426T105109Z
UID:681-1651748400-1651751100@antslakultuur.ee
SUMMARY:Jutuvestmis-etendus Pikk tige vanaeit
DESCRIPTION:Head eesti muinasjutud uues võtmes! See teatritükk on maiuspala igas vanuses jutuhuvilistele\, kes on valmis kohtuma lugudega elust ja surmast\, noortest ja vanadest\, sõpradest ning vaenlastest. Kes tahavad\, et laval kogu aeg midagi juhtuks – midagi naljakat\, jubedat\, tobedat\, üllatavat või liigutavat.  Me mõtlesime neid lugusid tehes eelkõige noortele 9+\, kes võib olla enam muinasjutte ei loe\, kuid äkki meil õnnestub neid üllatada! \nLaval näitleja\, jutuvestja Liia Kanemägi\nLavastaja Jaanika Juhanson\, kunstnik Sander Põldsaar\, muusikaline kujundus Tarmo Kivisilla\nTehniline heli- ja valguslahendus Mait Visnapuu\n45 minutit\, eesti keeles \nVaataja ees rulluvad jutuvestmise ning haaravate muusikaliste piltide toel lahti mõnusa huumoriga vanad lood koolnutest\, inim-ussidest\, sõbralikust Surmast…Lood\, kus ennast maagiliste olendite ja muinasjututegelaste taga peidavad täiesti tavalised inimesed. Need\, kes teevad vahel valikuid\, mis pole arukad\, otsuseid\, mis on isekad. Eksivad ja püüavad parandada oma vigu. Saavad üle läbipääsmatutena tunduvatest takistustest ja panevad meid uskuma\, et lõpuks võidab ikkagi hea.
URL:https://antslakultuur.ee/event/jutuvestmis-etendus-pikk-tige-vanaeit-2/
LOCATION:Antsla Kultuurikeskus\, Kooli tee 19\, Antsla\, Võrumaa\, 66403\, Eesti
CATEGORIES:Teater
ATTACH;FMTTYPE=image/jpeg:https://antslakultuur.ee/wp-content/uploads/2022/04/Avapilt-PTV.jpg
ORGANIZER;CN="Antsla Kultuurikeskus":MAILTO:kultuur@antsla.ee
END:VEVENT
BEGIN:VEVENT
DTSTART;VALUE=DATE:20220507
DTEND;VALUE=DATE:20220509
DTSTAMP:20260421T010036
CREATED:20220302T121508Z
LAST-MODIFIED:20220419T111511Z
UID:583-1651892400-1651978799@antslakultuur.ee
SUMMARY:Antsla Laululaps 2022
DESCRIPTION:Antsla Laululaps 2022 \nLauldakse vanusekategooriates: \n2-4 aastased\n5-7 aastased\n8-10 aastased\n11-13 aastased\n14-16 aastased
URL:https://antslakultuur.ee/event/solistide-konkurss-antsla-laululaps-2022/
LOCATION:Antsla Kultuurikeskus\, Kooli tee 19\, Antsla\, Võrumaa\, 66403\, Eesti
CATEGORIES:Huvitegevus,Kontsert,Muusika
ATTACH;FMTTYPE=image/jpeg:https://antslakultuur.ee/wp-content/uploads/2022/03/laululaps-fb@2x-80-scaled.jpg
ORGANIZER;CN="Antsla Kultuurikeskus":MAILTO:kultuur@antsla.ee
END:VEVENT
BEGIN:VEVENT
DTSTART;TZID=Europe/Helsinki:20220515T090000
DTEND;TZID=Europe/Helsinki:20220515T140000
DTSTAMP:20260421T010036
CREATED:20220328T072131Z
LAST-MODIFIED:20220404T133113Z
UID:626-1652605200-1652623200@antslakultuur.ee
SUMMARY:Tsooru kevadlaat
DESCRIPTION:Taimed\, toit\, käsitöö\, uued riided\, täika jpm \nKultuuriprogramm \nKauplemiskohtade broneerimine 58534682 (Krista) või 5278240 (Jarek) \n  \nKorraldavad: Tsooru Rahvamaja\, Antsla Valla Kultuurikeskus\, Tsooru V-klubi
URL:https://antslakultuur.ee/event/tsooru-kevadlaat/
LOCATION:Tsooru Rahvamaja\, Tsooru\, Antsla vald\, Võrumaa\, Eesti
CATEGORIES:Laat
ATTACH;FMTTYPE=image/jpeg:https://antslakultuur.ee/wp-content/uploads/2022/03/tsooru-laat.jpg
END:VEVENT
BEGIN:VEVENT
DTSTART;VALUE=DATE:20220525
DTEND;VALUE=DATE:20220527
DTSTAMP:20260421T010036
CREATED:20220302T121718Z
LAST-MODIFIED:20220516T124423Z
UID:585-1653447600-1653533999@antslakultuur.ee
SUMMARY:Muusikastuudio kontsert
DESCRIPTION:Muusikastuudio kontsert Veski Pubi hoovis. \nEsinevad Antsla Kultuurikeskuse Mudilaste ja noorte muusikastuudio lauljad ning vokaalansambel. Juhendab Cathlen Haugas.
URL:https://antslakultuur.ee/event/muusikastuudio-kontsert/
LOCATION:Veski Pubi\, Veski 10\, Antsla\, Võrumaa\, 66403\, Eesti
CATEGORIES:Kontsert
ATTACH;FMTTYPE=image/jpeg:https://antslakultuur.ee/wp-content/uploads/2022/03/muusikastuudio.jpg
ORGANIZER;CN="Antsla Kultuurikeskus":MAILTO:kultuur@antsla.ee
END:VEVENT
BEGIN:VEVENT
DTSTART;TZID=Europe/Helsinki:20220531T173000
DTEND;TZID=Europe/Helsinki:20220531T183000
DTSTAMP:20260421T010036
CREATED:20220516T124629Z
LAST-MODIFIED:20220526T070029Z
UID:701-1654018200-1654021800@antslakultuur.ee
SUMMARY:Antsla Muusikakooli kevadkontsert
DESCRIPTION:
URL:https://antslakultuur.ee/event/antsla-muusikakooli-kevadkontsert/
LOCATION:Antsla Kultuurikeskus\, Kooli tee 19\, Antsla\, Võrumaa\, 66403\, Eesti
CATEGORIES:Kontsert,Muusikakool
ATTACH;FMTTYPE=image/jpeg:https://antslakultuur.ee/wp-content/uploads/2022/05/kevadkontsert@2x-80.jpg
END:VEVENT
END:VCALENDAR