BEGIN:VCALENDAR
VERSION:2.0
PRODID:-//Antsla Valla Kultuurikeskus - ECPv6.3.1//NONSGML v1.0//EN
CALSCALE:GREGORIAN
METHOD:PUBLISH
X-ORIGINAL-URL:https://antslakultuur.ee
X-WR-CALDESC:Events for Antsla Valla Kultuurikeskus
REFRESH-INTERVAL;VALUE=DURATION:PT1H
X-Robots-Tag:noindex
X-PUBLISHED-TTL:PT1H
BEGIN:VTIMEZONE
TZID:Europe/Helsinki
BEGIN:DAYLIGHT
TZOFFSETFROM:+0200
TZOFFSETTO:+0300
TZNAME:EEST
DTSTART:20220327T010000
END:DAYLIGHT
BEGIN:STANDARD
TZOFFSETFROM:+0300
TZOFFSETTO:+0200
TZNAME:EET
DTSTART:20221030T010000
END:STANDARD
END:VTIMEZONE
BEGIN:VEVENT
DTSTART;TZID=Europe/Helsinki:20220812T210000
DTEND;TZID=Europe/Helsinki:20220812T230000
DTSTAMP:20260422T171604
CREATED:20220509T083610Z
LAST-MODIFIED:20220509T083644Z
UID:692-1660338000-1660345200@antslakultuur.ee
SUMMARY:JÄÄÄÄR Hauka Laadal!!
DESCRIPTION:Hauka Laada eelõhtul\, reedel 12. augustil\, toimub Antslas midagi erakordset!\nKell 20.00 avab kesklinna vahetus läheduses oma väravad uus kontserdipaik – augulava! See koht on sügav\, stiilne\, üllatav\, maitsekas\, jahmatav\, ja ainult Hauka Laada ajaks!\nKell 20.30 toimub Hauka Laat 2022 ametlik avamine.\nKell 21.00 astub lavale ansambel JÄÄÄÄR oma aegumatu muusikaga!\n\nSaa osa erilisest atmosfäärist\, maanda laadaeelset ärevust ja naudi Jääääre lummavat muusikat!\nKontsertõhtu toimub üritustesarja Antsla Acoustic raames\, mis pakub akustilise muusika elamusi aastaringselt.\n\n20.00 väravad\n20.30 laada ametlik avamine\n21.00 JÄÄÄÄR\nPiletid Piletilevist ja tund enne algust kohapealt.
URL:https://antslakultuur.ee/event/jaaaar-hauka-laadal/
LOCATION:Antsla Augulava\, Tamme\, Antsla\, Võrumaa
CATEGORIES:antsla acoustic,Kontsert
ATTACH;FMTTYPE=image/jpeg:https://antslakultuur.ee/wp-content/uploads/2022/05/FB-event-cover-antsla@2x-80-scaled.jpg
ORGANIZER;CN="Hauka Laat MT%C3%9C":MAILTO:info@haukalaat.ee
END:VEVENT
BEGIN:VEVENT
DTSTART;TZID=Europe/Helsinki:20220813T200000
DTEND;TZID=Europe/Helsinki:20220813T230000
DTSTAMP:20260422T171604
CREATED:20220613T110223Z
LAST-MODIFIED:20220613T110223Z
UID:745-1660420800-1660431600@antslakultuur.ee
SUMMARY:EPLIK - KASAR - VÕIGEMAST Hauka Laadal
DESCRIPTION:Hea muusika pääastab maailma!\nHauka Laada esimese päeva lõpetavad Vaiko Eplik\, Jarek Kasar ja Priit Võigemast\, pakkudes publikule erakordselt head muusikat. Musitseeritakse nii üksi kui ka koos.\nMuusikalist elamust aitab luua Antsla augulava mõnus atmosfäär.\n\nLaupäev 13. august\nANSTLA AUGULAVAL\n19.00 väravad\n20.00 EPLIK\, KASAR\, VÕIGEMAST\n\nHind 15.- €\neelmüügist 12.-€\nPiletid müügil Piletilevis ja tund enne algust kohapeal.\nhttps://www.piletilevi.ee/est/piletid/muusika/eesti-muusika/eplik-kasar-voigemast-hauka-laada-augulaval-360053/\nPääsmeid on piiratud arv!\n\nKontsertõhtu toimub üritustesarja Antsla Acoustic raames\, mis pakub akustilise muusika elamusi aastaringselt.
URL:https://antslakultuur.ee/event/eplik-kasar-voigemast-hauka-laadal/
LOCATION:Antsla Augulava\, Tamme\, Antsla\, Võrumaa
CATEGORIES:antsla acoustic,Kontsert
ATTACH;FMTTYPE=image/jpeg:https://antslakultuur.ee/wp-content/uploads/2022/06/event-cover-eplik-copy@2x-80-scaled.jpg
ORGANIZER;CN="Hauka Laat MT%C3%9C":MAILTO:info@haukalaat.ee
END:VEVENT
BEGIN:VEVENT
DTSTART;TZID=Europe/Helsinki:20220823T190000
DTEND;TZID=Europe/Helsinki:20220823T203000
DTSTAMP:20260422T171604
CREATED:20220803T071954Z
LAST-MODIFIED:20220803T072156Z
UID:758-1661281200-1661286600@antslakultuur.ee
SUMMARY:Apteeker Melchior. Viirastus.
DESCRIPTION:Keskaegse krimipõneviku teises filmis ehmatab öövahti kohutav viirastus – rikka kaupmehe traagiliselt uppunud tütar. Hommikuks on vahimees kõrgest tornist surnuks kukkunud ja kahtlastes õnnetustes kaotavad elu veel mitu inimest. \nNeid sündmusi uuriva Melchiori teed ristuvad nii lõbutüdruku kui preestriga\, nii võõramaa kunstniku kui hullunud ketseriga. Vihjed viivad ta Pirita kloostrisse\, mille sünged võlvid varjavad unustusse maetud ohtlikku saladust. \nLisaks vaevab Melchiorit ta endise õpilase Keterlyni mõistatuslik päritolu\, mis näib toimuvaga kuidagi seotud olevat…
URL:https://antslakultuur.ee/event/apteeker-melchior-viirastus/
LOCATION:Tsooru Rahvamaja\, Tsooru\, Antsla vald\, Võrumaa\, Eesti
CATEGORIES:Kino
ATTACH;FMTTYPE=image/jpeg:https://antslakultuur.ee/wp-content/uploads/2022/08/Mlchior-II-_A3-01-01.jpg
END:VEVENT
BEGIN:VEVENT
DTSTART;TZID=Europe/Helsinki:20220830T190000
DTEND;TZID=Europe/Helsinki:20220830T203000
DTSTAMP:20260422T171604
CREATED:20220803T072422Z
LAST-MODIFIED:20220803T072422Z
UID:765-1661886000-1661891400@antslakultuur.ee
SUMMARY:Apteeker Melchior.Viirastus.
DESCRIPTION:Keskaegse krimipõneviku teises filmis ehmatab öövahti kohutav viirastus – rikka kaupmehe traagiliselt uppunud tütar. Hommikuks on vahimees kõrgest tornist surnuks kukkunud ja kahtlastes õnnetustes kaotavad elu veel mitu inimest. \nNeid sündmusi uuriva Melchiori teed ristuvad nii lõbutüdruku kui preestriga\, nii võõramaa kunstniku kui hullunud ketseriga. Vihjed viivad ta Pirita kloostrisse\, mille sünged võlvid varjavad unustusse maetud ohtlikku saladust. \nLisaks vaevab Melchiorit ta endise õpilase Keterlyni mõistatuslik päritolu\, mis näib toimuvaga kuidagi seotud olevat…
URL:https://antslakultuur.ee/event/apteeker-melchior-viirastus-2/
LOCATION:Antsla Kultuurikeskus\, Kooli tee 19\, Antsla\, Võrumaa\, 66403\, Eesti
CATEGORIES:Kino
ATTACH;FMTTYPE=image/jpeg:https://antslakultuur.ee/wp-content/uploads/2022/08/Mlchior-II-_A3-01-01.jpg
END:VEVENT
END:VCALENDAR