BEGIN:VCALENDAR
VERSION:2.0
PRODID:-//Antsla Valla Kultuurikeskus - ECPv6.3.1//NONSGML v1.0//EN
CALSCALE:GREGORIAN
METHOD:PUBLISH
X-WR-CALNAME:Antsla Valla Kultuurikeskus
X-ORIGINAL-URL:https://antslakultuur.ee
X-WR-CALDESC:Events for Antsla Valla Kultuurikeskus
REFRESH-INTERVAL;VALUE=DURATION:PT1H
X-Robots-Tag:noindex
X-PUBLISHED-TTL:PT1H
BEGIN:VTIMEZONE
TZID:Europe/Helsinki
BEGIN:DAYLIGHT
TZOFFSETFROM:+0200
TZOFFSETTO:+0300
TZNAME:EEST
DTSTART:20220327T010000
END:DAYLIGHT
BEGIN:STANDARD
TZOFFSETFROM:+0300
TZOFFSETTO:+0200
TZNAME:EET
DTSTART:20221030T010000
END:STANDARD
END:VTIMEZONE
BEGIN:VEVENT
DTSTART;TZID=Europe/Helsinki:20221022T140000
DTEND;TZID=Europe/Helsinki:20221219T170000
DTSTAMP:20260422T222007
CREATED:20221025T072336Z
LAST-MODIFIED:20221025T072336Z
UID:912-1666447200-1671469200@antslakultuur.ee
SUMMARY:TYPA väike kõrgtrükinäitus "LINOLEUMIST KARTULINI"
DESCRIPTION:Rändnäituse teemaks on kõrgtrükk. Kõrgtrükk on trükitehnika\, mis oli levinud kuni eelmise sajandi 90ndate aastateni\, nüüd on aga tegemist minevikku kuuluva tehnikaga\, mida on siiski huvitav proovida ja mille käigus saab trükkida nii klassikalisi tähelaoga tekste kui linool- ja puulõikes pilte. \nNäitus jääb Antsla Kulturikeskuses avatuks kuni 19.12.2022.
URL:https://antslakultuur.ee/event/typa-vaike-korgtrukinaitus-linoleumist-kartulini/
LOCATION:Antsla Kultuurikeskus\, Kooli tee 19\, Antsla\, Võrumaa\, 66403\, Eesti
ATTACH;FMTTYPE=application/pdf:https://antslakultuur.ee/wp-content/uploads/2022/10/Antsla_Korgtrukinaitus_297x397mm_bleed3-1.pdf
END:VEVENT
BEGIN:VEVENT
DTSTART;TZID=Europe/Helsinki:20221106T140000
DTEND;TZID=Europe/Helsinki:20221106T170000
DTSTAMP:20260422T222007
CREATED:20221025T071529Z
LAST-MODIFIED:20221025T071529Z
UID:907-1667743200-1667754000@antslakultuur.ee
SUMMARY:Tsooru mälumäng
DESCRIPTION:Meelelahutuslik mälumäng kõigile. \nVõistkonnas 3 liiget. \nOsalustasu 1.- osaleja kohta.
URL:https://antslakultuur.ee/event/tsooru-malumang/
LOCATION:Võrumaa
END:VEVENT
BEGIN:VEVENT
DTSTART;TZID=Europe/Helsinki:20221108T180000
DTEND;TZID=Europe/Helsinki:20221108T183000
DTSTAMP:20260422T222007
CREATED:20221006T075210Z
LAST-MODIFIED:20221006T075210Z
UID:870-1667930400-1667932200@antslakultuur.ee
SUMMARY:Vallavillak-VÕRO keele eri
DESCRIPTION:Tule kae\, kas mõistat Võro kiilt. \nSeo kõrd ommava kõik küsümüse Võro kiilen. \nIks tõsõpäiv\, iks kell kuus ja väikun saalin.
URL:https://antslakultuur.ee/event/vallavillak-voro-keele-eri/
LOCATION:Võrumaa
ATTACH;FMTTYPE=image/jpeg:https://antslakultuur.ee/wp-content/uploads/2022/10/Vallavillak_A3-01.jpg
END:VEVENT
BEGIN:VEVENT
DTSTART;TZID=Europe/Helsinki:20221111T190000
DTEND;TZID=Europe/Helsinki:20221111T210000
DTSTAMP:20260422T222007
CREATED:20221014T072920Z
LAST-MODIFIED:20221014T072920Z
UID:894-1668193200-1668200400@antslakultuur.ee
SUMMARY:Komöödiaõhtu: Sille-Kadri Simeri soolotund "Turist lõksus"
DESCRIPTION:Sille-Kadri ehk Sillekas on peamiselt tuntud selle tõttu\, et suudab kõik inimesed surnuks rääkida. Ta on laval alati autentne\, eklektiline ja aus. Tissident\ntaskuhäälingu kuulajad teavad\, et kohati isegi liiga aus. 2021. aastal tõi ta lavaleesimese soolotunni “Omas mahlas”\, mis osutus väga edukaks. 2022. aastal räägib\nSillekas enda seiklustest välismaal. \nSille-Kadri armastab reisimist ja kuuma päikese all külmi jooke nautida. Ta ei viibi kuurortides\, vaid üritab kohalikega koos elades nendega ühist keelt leida. \nTihti küsib ta võõrastelt\, kuhu turistid kindlasti minna ei tohiks ja siis just sinna lähebki. \nArmukolmnurgad\, hääletamine välismaal\, koroonaviirus\, motellid\, agulid ja õnnelikud kokkusattumused on kõigest mõned teemad\, millest juttu tuleb. \nPiletid hinnaga 10.- saadaval Fienta.com kuni 01.11.2022.\n02.11-11.11.2022 pileti hind 15.- \nKohapeal: 15.-
URL:https://antslakultuur.ee/event/komoodiaohtu-sille-kadri-simeri-soolotund-turist-loksus/
LOCATION:Võrumaa
ATTACH;FMTTYPE=image/jpeg:https://antslakultuur.ee/wp-content/uploads/2022/10/Stand-up-komoodia-11-11-22_Antsla-01.jpg
END:VEVENT
BEGIN:VEVENT
DTSTART;TZID=Europe/Helsinki:20221117T190000
DTEND;TZID=Europe/Helsinki:20221117T203000
DTSTAMP:20260422T222007
CREATED:20221025T071146Z
LAST-MODIFIED:20221025T071146Z
UID:903-1668711600-1668717000@antslakultuur.ee
SUMMARY:KINO "Kõrb" Tsooru rahvamajas
DESCRIPTION:Olles töölähetusel apokalüptilisel – inimestest ja seadustest hüljatud Siinail\, võetakse Rootsi fotoajakirjanik Ingrid (Frida Westerdahl) rühma Palestiina meeste poolt pantvangi ja peidetakse kõrbesse. Üks jõugu liikmetest\, Ali (Ali Suliman)\, pöörab Ingridile aina enam tähelepanu ning peagi areneb lähedusest välja võimatuna näiv armulugu. Riskantne suhe ei jää märkamata jõugu juhil Moussal (Firas Taybeh)\, kes kahtlustab\, et armumine võib tuua kaasa reetmise. Moussa paranoiline käitumine muudab olukorra aina keerulisemaks ning järjest küsitavamaks muutub\, kas Ingridil üldse õnnestub eluga pääseda. \n“Kõrb” on armastuslugu kahest üksikust hingest\, kes leiavad teineteist kõrbes. Just kõrbes on hing avatud ja pinnale tõuseb see\, mis on tegelikult oluline.
URL:https://antslakultuur.ee/event/kino-korb-tsooru-rahvamajas/
LOCATION:Tsooru Rahvamaja\, Tsooru\, Antsla vald\, Võrumaa\, Eesti
ATTACH;FMTTYPE=image/jpeg:https://antslakultuur.ee/wp-content/uploads/2022/10/Korb_poster-01.jpg
END:VEVENT
BEGIN:VEVENT
DTSTART;TZID=Europe/Helsinki:20221118T200000
DTEND;TZID=Europe/Helsinki:20221118T213000
DTSTAMP:20260422T222007
CREATED:20221110T081716Z
LAST-MODIFIED:20221110T081716Z
UID:919-1668801600-1668807000@antslakultuur.ee
SUMMARY:Antsla acoustic. Linalakk ja Jaagup Jürgel
DESCRIPTION:18 november kell 20 annavad kaks toredat noort muusikut Antsla acoustic sündmuse raames kontserti Antslas\, pubis Stefan\, Jaani 6 Antsla.\nLinalakk on Eesti laulja\, laulukirjutaja.\n2021.a teises pooles ilmus ta esimene autoriplaat “Elu ilu”. Linalakk osaleb ka Eesti Laul 2023 poolfinaalis.\nJaagup Jürgel on õppinud Elleri nimelises Tartu Muusikakoolis. Praegu omandab ta teadmisi Eesti Muusika- ja Teatriakadeemias. Ta on löönud kaasa Ele Millistferi autoriplaadil “Alguse paik”\, samuti mängib ta kitarre\, basskitarre ning on teinud arranžeeringu ja produktsiooni Linalaka peagi ilmuval autoriplaadil “Eluilu”. Jürgel on teinud koostööd ka kollektiividega Justament\, Kõrsikud\, Estraadiraadio\, Kiks. 2021 aastal pärjati Jaagup Tiit Pauluse nimelise noore kitarrimängija tiitliga.\nTule kohale ja saa osa ilusa muusikaga täidetud õhtust.\nPilet 10.-\nPiletite müük algab kell 19:30
URL:https://antslakultuur.ee/event/antsla-acoustic-linalakk-ja-jaagup-jurgel/
LOCATION:Võrumaa
ATTACH;FMTTYPE=image/jpeg:https://antslakultuur.ee/wp-content/uploads/2022/11/Linalakk-18-11-22-01.jpg
ORGANIZER;CN="Antsla Kultuurikeskus":MAILTO:kultuur@antsla.ee
END:VEVENT
BEGIN:VEVENT
DTSTART;TZID=Europe/Helsinki:20221120T120000
DTEND;TZID=Europe/Helsinki:20221120T150000
DTSTAMP:20260422T222007
CREATED:20221025T070721Z
LAST-MODIFIED:20221025T070721Z
UID:900-1668945600-1668956400@antslakultuur.ee
SUMMARY:Lauatennise võistlus Tsoorus
DESCRIPTION:Tsoorus alustab taaskord lauatennise võistlus. \nEi ole tähtis\, kas oled algaja või proff. \nTule kohale ja pane oma oskused proovile. \nLisainfo saamiseks helista 58534682 Krista.
URL:https://antslakultuur.ee/event/lauatennise-voistlus-tsoorus/
LOCATION:Tsooru Rahvamaja\, Tsooru\, Antsla vald\, Võrumaa\, Eesti
ATTACH;FMTTYPE=image/jpeg:https://antslakultuur.ee/wp-content/uploads/2022/10/Tsooru-malumang.jpg
END:VEVENT
BEGIN:VEVENT
DTSTART;TZID=Europe/Helsinki:20221121T190000
DTEND;TZID=Europe/Helsinki:20221121T203000
DTSTAMP:20260422T222007
CREATED:20221025T071754Z
LAST-MODIFIED:20221025T071754Z
UID:910-1669057200-1669062600@antslakultuur.ee
SUMMARY:KINO "Kõrb"
DESCRIPTION:Olles töölähetusel apokalüptilisel – inimestest ja seadustest hüljatud Siinail\, võetakse Rootsi fotoajakirjanik Ingrid (Frida Westerdahl) rühma Palestiina meeste poolt pantvangi ja peidetakse kõrbesse. Üks jõugu liikmetest\, Ali (Ali Suliman)\, pöörab Ingridile aina enam tähelepanu ning peagi areneb lähedusest välja võimatuna näiv armulugu. Riskantne suhe ei jää märkamata jõugu juhil Moussal (Firas Taybeh)\, kes kahtlustab\, et armumine võib tuua kaasa reetmise. Moussa paranoiline käitumine muudab olukorra aina keerulisemaks ning järjest küsitavamaks muutub\, kas Ingridil üldse õnnestub eluga pääseda. \n“Kõrb” on armastuslugu kahest üksikust hingest\, kes leiavad teineteist kõrbes. Just kõrbes on hing avatud ja pinnale tõuseb see\, mis on tegelikult oluline.
URL:https://antslakultuur.ee/event/kino-korb/
LOCATION:Antsla Kultuurikeskus\, Kooli tee 19\, Antsla\, Võrumaa\, 66403\, Eesti
ATTACH;FMTTYPE=image/jpeg:https://antslakultuur.ee/wp-content/uploads/2022/10/Korb_poster-01.jpg
ORGANIZER;CN="Antsla Kultuurikeskus":MAILTO:kultuur@antsla.ee
END:VEVENT
BEGIN:VEVENT
DTSTART;TZID=Europe/Helsinki:20221122T180000
DTEND;TZID=Europe/Helsinki:20221122T183000
DTSTAMP:20260422T222007
CREATED:20221006T075553Z
LAST-MODIFIED:20221006T075553Z
UID:872-1669140000-1669141800@antslakultuur.ee
SUMMARY:Vallavillak - NOORTE eri!
DESCRIPTION:Noorsootöö nädala puhul\, on seekordne Vallavillak pühendatud noortele. \nSel korral on sul võimalus testida oma teadmisi noori kõnetavates valdkondades. \nPärast mälumängus osalemist mõistad kindlasti paremini noorte maailma. \nKüsimused koostavad ja mängu viivad läbi noored.
URL:https://antslakultuur.ee/event/vallavillak-noorte-eri/
LOCATION:Võrumaa
ATTACH;FMTTYPE=image/jpeg:https://antslakultuur.ee/wp-content/uploads/2022/10/Vallavillak_A3-01.jpg
END:VEVENT
END:VCALENDAR