BEGIN:VCALENDAR
VERSION:2.0
PRODID:-//Antsla Valla Kultuurikeskus - ECPv6.3.1//NONSGML v1.0//EN
CALSCALE:GREGORIAN
METHOD:PUBLISH
X-ORIGINAL-URL:https://antslakultuur.ee
X-WR-CALDESC:Events for Antsla Valla Kultuurikeskus
REFRESH-INTERVAL;VALUE=DURATION:PT1H
X-Robots-Tag:noindex
X-PUBLISHED-TTL:PT1H
BEGIN:VTIMEZONE
TZID:Europe/Helsinki
BEGIN:DAYLIGHT
TZOFFSETFROM:+0200
TZOFFSETTO:+0300
TZNAME:EEST
DTSTART:20220327T010000
END:DAYLIGHT
BEGIN:STANDARD
TZOFFSETFROM:+0300
TZOFFSETTO:+0200
TZNAME:EET
DTSTART:20221030T010000
END:STANDARD
END:VTIMEZONE
BEGIN:VEVENT
DTSTART;TZID=Europe/Helsinki:20221022T140000
DTEND;TZID=Europe/Helsinki:20221219T170000
DTSTAMP:20260422T221958
CREATED:20221025T072336Z
LAST-MODIFIED:20221025T072336Z
UID:912-1666447200-1671469200@antslakultuur.ee
SUMMARY:TYPA väike kõrgtrükinäitus "LINOLEUMIST KARTULINI"
DESCRIPTION:Rändnäituse teemaks on kõrgtrükk. Kõrgtrükk on trükitehnika\, mis oli levinud kuni eelmise sajandi 90ndate aastateni\, nüüd on aga tegemist minevikku kuuluva tehnikaga\, mida on siiski huvitav proovida ja mille käigus saab trükkida nii klassikalisi tähelaoga tekste kui linool- ja puulõikes pilte. \nNäitus jääb Antsla Kulturikeskuses avatuks kuni 19.12.2022.
URL:https://antslakultuur.ee/event/typa-vaike-korgtrukinaitus-linoleumist-kartulini/
LOCATION:Antsla Kultuurikeskus\, Kooli tee 19\, Antsla\, Võrumaa\, 66403\, Eesti
ATTACH;FMTTYPE=application/pdf:https://antslakultuur.ee/wp-content/uploads/2022/10/Antsla_Korgtrukinaitus_297x397mm_bleed3-1.pdf
END:VEVENT
BEGIN:VEVENT
DTSTART;TZID=Europe/Helsinki:20221206T180000
DTEND;TZID=Europe/Helsinki:20221206T183000
DTSTAMP:20260422T221958
CREATED:20221006T080004Z
LAST-MODIFIED:20221006T080004Z
UID:874-1670349600-1670351400@antslakultuur.ee
SUMMARY:Vallavillak
DESCRIPTION:2022 aasta viimane vallavillak. \nAasta viimane vallavillak on jõuluhõnguline ja paneb punkti 2022 aasta vallavillaku mälumängudele.
URL:https://antslakultuur.ee/event/vallavillak-8/
LOCATION:Võrumaa
CATEGORIES:Mälumäng
ATTACH;FMTTYPE=image/jpeg:https://antslakultuur.ee/wp-content/uploads/2022/10/Vallavillak_A3-01.jpg
END:VEVENT
BEGIN:VEVENT
DTSTART;TZID=Europe/Helsinki:20221209T100000
DTEND;TZID=Europe/Helsinki:20221209T110000
DTSTAMP:20260422T221958
CREATED:20221201T095112Z
LAST-MODIFIED:20221201T095112Z
UID:923-1670580000-1670583600@antslakultuur.ee
SUMMARY:Miksteater etendus "Pöialpoiss Nils Karlsson"
DESCRIPTION:Iga päev läksid ema ja isa tehasesse tööle ja Bertil jäi üksi koju. Ta polnud mitte alati üksi olnud. Varem oli tal õde\, kelle nimi oli Märta. Aga ühel päeval tuli Märta koolist koju ja jäi haigeks. Ta oli nädal aega haige. Ja siis ta suri. Pisarad hakkasid iseenesest voolama kui Bertil mõtles Märtale ja sellele kui üksi ta nüüd on. Just siis ta seda kuuliski. Ta kuulis oma voodi alt tasaseid tippivaid samme. Ta nägi midagi kummalist. Seal voodi all seisis keegi. “Mina olen pöialpoiss Nils Karlsson\,” ütles väike poiss.\nNii leiabki Bertil endale sõbra\, kelle eest hoolt kanda ja kellega koos vahvaid asju ette võtta ning päevad ei tundu enam nii igavad ega üksildased.\nAutor: Astrid Lindgren\nTõlkija: Ülle Kiivet\nDramaturg-lavastaja: Kaido Rannik\nKunstnik: Triin Simson\nMuusikaline kujundaja: Andres Vago\nValguskunstnik: Martin Meelandi\nOsades: Mart Toome (Tallinna Linnateater) ja Kristo Toots\nPiletid hinnaga 7.- müügil kohapeal.
URL:https://antslakultuur.ee/event/miksteater-etendus-poialpoiss-nils-karlsson/
LOCATION:Antsla Kultuurikeskus\, Kooli tee 19\, Antsla\, Võrumaa\, 66403\, Eesti
ATTACH;FMTTYPE=application/pdf:https://antslakultuur.ee/wp-content/uploads/2022/12/nils-karlsson_A4_ANTSLA_TRYKK.pdf
END:VEVENT
BEGIN:VEVENT
DTSTART;TZID=Europe/Helsinki:20221214T130000
DTEND;TZID=Europe/Helsinki:20221214T150000
DTSTAMP:20260422T221958
CREATED:20221201T095622Z
LAST-MODIFIED:20221201T095622Z
UID:926-1671022800-1671030000@antslakultuur.ee
SUMMARY:Antsla valla eakate jõulupidu
DESCRIPTION:Antsla valla eakatele mõeldud jõulupidu toimub sellel aastal Tsooru Rahvamajas. \nOsavõtust ja transpordisoovist anna teada kultuurikorraldajale Krista Puija 58534682
URL:https://antslakultuur.ee/event/antsla-valla-eakate-joulupidu/
LOCATION:Tsooru Rahvamaja\, Tsooru\, Antsla vald\, Võrumaa\, Eesti
ATTACH;FMTTYPE=application/pdf:https://antslakultuur.ee/wp-content/uploads/2022/12/Eakate-joulupidu-2022-Tsooru_A3.pdf
END:VEVENT
BEGIN:VEVENT
DTSTART;TZID=Europe/Helsinki:20221218T120000
DTEND;TZID=Europe/Helsinki:20221218T140000
DTSTAMP:20260422T221958
CREATED:20221201T095953Z
LAST-MODIFIED:20221201T095953Z
UID:929-1671364800-1671372000@antslakultuur.ee
SUMMARY:Huviringide jõulukontsert "JõuluLOOTUS"
DESCRIPTION:Esinevad Antsla valla kultuurikeskuse huviringides osalejad. \nTASUTA
URL:https://antslakultuur.ee/event/huviringide-joulukontsert-joululootus/
LOCATION:Antsla Kultuurikeskus\, Kooli tee 19\, Antsla\, Võrumaa\, 66403\, Eesti
ATTACH;FMTTYPE=application/pdf:https://antslakultuur.ee/wp-content/uploads/2022/12/Huviringide-joulukontsert-2022-copy.pdf
END:VEVENT
BEGIN:VEVENT
DTSTART;TZID=Europe/Helsinki:20221226T200000
DTEND;TZID=Europe/Helsinki:20221226T233000
DTSTAMP:20260422T221958
CREATED:20221201T100228Z
LAST-MODIFIED:20221201T100228Z
UID:932-1672084800-1672097400@antslakultuur.ee
SUMMARY:Jõulutüdimuse leevendus ansambliga JUSTAMENT
DESCRIPTION:Ansambel Justament ei vaja ilmselt tutvustust. Mitmekülgne ja erinevates muusikastiilides tantsumuusikat pakkuv ansambel\, teeb tuju heaks ja kutsub tantsima igas vanuses peolisi.\n\nTõuse jõululauast püsti ja tule koos lähedaste\, sõprade või isegi koos jõuluvanaga mõnusat õhtut veetma Antsla Kultuurikeskusesse ja jalga keerutama Justamendi saatel.\nJustament on eesti ansambel\, mis tegutseb alates 28. oktoobrist 1980. Ansambel kasvas välja ansamblitest Miks JUTITA ja Salong.\nJustament alustas rahvaliku ja kantrimuusikaga\, viljeles bluegrassi ja country rocki\, pöördus siis beat-muusika radadele ja nüüd esitab segu sellest kõigest.\n\nPiletid Fienta.com https://fienta.com/…/joulutudimuse-leevendus-ansambliga…\n04.11 – 30.11 – 12.- pilet\n01.12 – 25.12 – 17.- pilet\n26.12 ja kohapeal – 20.- pilet\nAlgus kell 20
URL:https://antslakultuur.ee/event/joulutudimuse-leevendus-ansambliga-justament/
LOCATION:Antsla Kultuurikeskus\, Kooli tee 19\, Antsla\, Võrumaa\, 66403\, Eesti
ATTACH;FMTTYPE=image/jpeg:https://antslakultuur.ee/wp-content/uploads/2022/12/Antsla_Justament_4-01.jpg
END:VEVENT
END:VCALENDAR