BEGIN:VCALENDAR
VERSION:2.0
PRODID:-//Antsla Valla Kultuurikeskus - ECPv6.3.1//NONSGML v1.0//EN
CALSCALE:GREGORIAN
METHOD:PUBLISH
X-ORIGINAL-URL:https://antslakultuur.ee
X-WR-CALDESC:Events for Antsla Valla Kultuurikeskus
REFRESH-INTERVAL;VALUE=DURATION:PT1H
X-Robots-Tag:noindex
X-PUBLISHED-TTL:PT1H
BEGIN:VTIMEZONE
TZID:Europe/Helsinki
BEGIN:DAYLIGHT
TZOFFSETFROM:+0200
TZOFFSETTO:+0300
TZNAME:EEST
DTSTART:20230326T010000
END:DAYLIGHT
BEGIN:STANDARD
TZOFFSETFROM:+0300
TZOFFSETTO:+0200
TZNAME:EET
DTSTART:20231029T010000
END:STANDARD
END:VTIMEZONE
BEGIN:VEVENT
DTSTART;TZID=Europe/Helsinki:20230116T190000
DTEND;TZID=Europe/Helsinki:20230116T203000
DTSTAMP:20260422T205249
CREATED:20221229T114020Z
LAST-MODIFIED:20221229T114020Z
UID:947-1673895600-1673901000@antslakultuur.ee
SUMMARY:KINO "Kuulsuse narrid"
DESCRIPTION:Eduard Bornhöhe samanimelisel jutustusel põhinev mängufilm „Kuulsuse narrid“ viib vaataja aega\, kus eestlaste rahvuslik iseteadvus oli alles tärkamas. Komöödia peategelasteks on mehed\, kelle rinnus pakitseb soov oma rahvale midagi igavikulist kinkida – olgu selleks siis õhus lendav imemasin või maakeeli kirja pandud väärtkirjandus.\nKolkakülast saabub tillukesse provintsilinna Saalomon Vesipruul\, kes\, pärast mitmeid põrumisi erinevates ametites\, otsustab läbi lüüa vabakutselise kirjanikuna. Ta rendib endale väikese toakese pesunaisest üksikema Agnese tagasihoidlikus elamises. Paraku pole Vesipruuli üllad kavatsused määratud teostuma\, sest oma kutsumusse sisse elades tuleb tal tutvust teha oma naabri – looduseuurija ja leiutaja Jaan Tatikaga. Saatuse tahtel ja paljude iseäralike juhtumiste tõttu ei sünni siit suurt ja südamlikku sõprust\, vaid risti vastupidi – otsatu vastastikune vihkamine. Olukorda ei tee sugugi lihtsamaks seegi\, et Saalomon korteriperenaises oma muusat näeb. Tatikal on Agnesega sootuks omad plaanid ja nende nimel on ta valmis tulest ja veest läbi minema. Sortsu õli valab tulle ka liiakasuvõtjast Värdi\, kel samuti kahtlaselt tihti Agnese juurde asja. Ka Agnesel on omad soovid ja unistused – leida armastus\, kes suudaks olla isaks tema väänkaelast pojale.\n„Kuulsuse narrid“ on film kõrgetest püüdlustest rasketel aegadel. Lugu sellest\, kuidas utoopiliste ideaalide teostumine võib takerduda kõige maisematesse asjadesse ja mis seal salata – ka ande ja vaimse ettevalmistuse puudumisse.\nFilmis mängivad Karl Robert Saaremäe (Saalomon Vesipruul)\, Veiko Porkanen (Tatikas)\, Maiken Pius (pesunaine Agnes)\, Ott Sepp (Värdi)\, Saara Nüganen\, Marian Heinat\, Loviise Kapper\, Argo Aadli\, Margo Mitt\, Vallo Kirs\, Margus Jaanovits\, Guido Kangur\, Stefan Kristofer Soeson\, Ott Raidmets\, Tiit Sukk ja Jüri Lumiste.
URL:https://antslakultuur.ee/event/kino-kuulsuse-narrid/
LOCATION:Antsla Kultuurikeskus\, Kooli tee 19\, Antsla\, Võrumaa\, 66403\, Eesti
ATTACH;FMTTYPE=application/pdf:https://antslakultuur.ee/wp-content/uploads/2022/12/Kuulsuse-narrid_A3.pdf
ORGANIZER;CN="Antsla Kultuurikeskus":MAILTO:kultuur@antsla.ee
END:VEVENT
BEGIN:VEVENT
DTSTART;TZID=Europe/Helsinki:20230117T180000
DTEND;TZID=Europe/Helsinki:20230117T183000
DTSTAMP:20260422T205249
CREATED:20221229T112718Z
LAST-MODIFIED:20221229T112718Z
UID:937-1673978400-1673980200@antslakultuur.ee
SUMMARY:Vallavillak
DESCRIPTION:Meelelahutuslik mälumäng\, mis on mõeldud kõigile ja sobib kõigile. Vallavillak jätkub ka 2023 aastal. Ikka teisipäeviti ja ikka üle nädala. Tule üksi või koos meeskonnaga ja pane oma teadmised proovile. Kui sa kõiki vastuseid ei tea\, siis võid kindel olla\, et pärast mängu lõppu oled kindlasti targem kui enne.
URL:https://antslakultuur.ee/event/vallavillak-6/
LOCATION:Antsla Kultuurikeskus\, Kooli tee 19\, Antsla\, Võrumaa\, 66403\, Eesti
ATTACH;FMTTYPE=image/jpeg:https://antslakultuur.ee/wp-content/uploads/2022/12/Vallavillak_A3_jaan-veebr23_A3-01.jpg
ORGANIZER;CN="Antsla Kultuurikeskus":MAILTO:kultuur@antsla.ee
END:VEVENT
BEGIN:VEVENT
DTSTART;TZID=Europe/Helsinki:20230124T130000
DTEND;TZID=Europe/Helsinki:20230124T140000
DTSTAMP:20260422T205249
CREATED:20221229T160436Z
LAST-MODIFIED:20230104T071933Z
UID:955-1674565200-1674568800@antslakultuur.ee
SUMMARY:Muusikatund Tanja ja Mihkliga
DESCRIPTION:Tanja Mihhailova – laul\, tekst \nMihkel Mattisen – klaver\, laul\, tekst \nKõlavad poplood kodu- ja välismaalt. Hariv ja rõõmsameelne kontsert\, kus räägime sellest\, kuidas lugu saab esitada erinevates stiilides. Keerame mõne hitiväga erinevasse võtmesse\, tehes seda valsi\, polka\, džässi või rokina. Võib ka näiteks lausa Beethoveniks keerata\, klassikavärk. Suur popi megamix\, kus näidatakse\, kuidas popmuusikasiseloomulikule neljale tüüpilisele akordile saab kirjutada palju hitte.
URL:https://antslakultuur.ee/event/tanja-mihhailova-saar-ja-mikk-saar-koolikontsert/
LOCATION:Antsla Kultuurikeskus\, Kooli tee 19\, Antsla\, Võrumaa\, 66403\, Eesti
ATTACH;FMTTYPE=application/pdf:https://antslakultuur.ee/wp-content/uploads/2022/12/EK-Koolikontserdid2022-A3_54-01.pdf
END:VEVENT
BEGIN:VEVENT
DTSTART;TZID=Europe/Helsinki:20230131T180000
DTEND;TZID=Europe/Helsinki:20230131T183000
DTSTAMP:20260422T205249
CREATED:20221229T113033Z
LAST-MODIFIED:20221229T113033Z
UID:941-1675188000-1675189800@antslakultuur.ee
SUMMARY:Vallavillak
DESCRIPTION:Meelelahutuslik mälumäng\, mis on mõeldud kõigile ja sobib kõigile. Vallavillak jätkub ka 2023 aastal. Ikka teisipäeviti ja ikka üle nädala. Tule üksi või koos meeskonnaga ja pane oma teadmised proovile. Kui sa kõiki vastuseid ei tea\, siis võid kindel olla\, et pärast mängu lõppu oled kindlasti targem kui enne.
URL:https://antslakultuur.ee/event/vallavillak-9/
LOCATION:Antsla Kultuurikeskus\, Kooli tee 19\, Antsla\, Võrumaa\, 66403\, Eesti
ATTACH;FMTTYPE=image/jpeg:https://antslakultuur.ee/wp-content/uploads/2022/12/Vallavillak_A3_jaan-veebr23_A3-01.jpg
ORGANIZER;CN="Antsla Kultuurikeskus":MAILTO:kultuur@antsla.ee
END:VEVENT
END:VCALENDAR