BEGIN:VCALENDAR
VERSION:2.0
PRODID:-//Antsla Valla Kultuurikeskus - ECPv6.3.1//NONSGML v1.0//EN
CALSCALE:GREGORIAN
METHOD:PUBLISH
X-ORIGINAL-URL:https://antslakultuur.ee
X-WR-CALDESC:Events for Antsla Valla Kultuurikeskus
REFRESH-INTERVAL;VALUE=DURATION:PT1H
X-Robots-Tag:noindex
X-PUBLISHED-TTL:PT1H
BEGIN:VTIMEZONE
TZID:Europe/Helsinki
BEGIN:DAYLIGHT
TZOFFSETFROM:+0200
TZOFFSETTO:+0300
TZNAME:EEST
DTSTART:20230326T010000
END:DAYLIGHT
BEGIN:STANDARD
TZOFFSETFROM:+0300
TZOFFSETTO:+0200
TZNAME:EET
DTSTART:20231029T010000
END:STANDARD
END:VTIMEZONE
BEGIN:VEVENT
DTSTART;TZID=Europe/Helsinki:20230210T190000
DTEND;TZID=Europe/Helsinki:20230210T200000
DTSTAMP:20260422T192524
CREATED:20230112T090543Z
LAST-MODIFIED:20230120T104152Z
UID:958-1676055600-1676059200@antslakultuur.ee
SUMMARY:Klaveritrio Poll-Varema-Poll
DESCRIPTION:„Beethoveni klaveritriod“ \nTrio Poll-Varema-Poll \nMari Poll (viiul) \nHenry-David Varema (tšello) \nMihkel Poll (klaver) \nKavas: \nTrio G-duur op. 1 nr 2 (1794/95) \nTrio D-duur op. 70 nr 1 („Ghost“ / „Vaim“) (1808) \nKlaveritrio oli 18. sajandi teisel poolel Viinis armastatud kammeržanr\, mida viljeldi rohkesti koduses ansamblimängus\, seda nii keskklassi kui aristokraatide ringkonnas. Olulist rolli žanri kujunemisloos mängis helilooja Joseph Haydn\, kelle triod said hiljem eeskujuks ka Beethovenile. Beethoveni panus klaveritrio arengusse aga oli märkimisväärne – tema käe all toimus žanri tuntav laienemine ning triost kujunes kaalukas instrumentaaltsükkel. \nMari Poll\, Henry-David Varema ja Mihkel Poll on rahvusvahelise haardega interpreedid\, kes on andnud kontserte paljudes maailmakuulsates kontserdisaalides\, triona on nad tegutsenud alates 2013. aastast. Ansambli repertuaar hõlmab laia valikut muusikat Mozartist\, Beethovenist ja Brahmsist kuni nüüdisheliloojate teosteni. Erilisel kohal on trio repertuaaris eesti helikunst\, sealhulgas klassikute\, nagu Artur Lemba ja Heino Elleri teosed\, aga ka meie kaasaegsete – Erkki-Sven Tüüri\, Arvo Pärdi ja Riho Esko Maimetsa looming. Hooajal 2022/2023 on trio fookuses Beethoven\, kelle loomingust tuuakse publikuni kõik tema klaveritriod.
URL:https://antslakultuur.ee/event/klaveritrio-poll-varema-poll/
LOCATION:Antsla Kultuurikeskus\, Kooli tee 19\, Antsla\, Võrumaa\, 66403\, Eesti
ATTACH;FMTTYPE=application/pdf:https://antslakultuur.ee/wp-content/uploads/2022/12/A3_Poll_Varema_Poll_printimiseks-1.pdf
ORGANIZER;CN="Antsla Kultuurikeskus":MAILTO:kultuur@antsla.ee
END:VEVENT
BEGIN:VEVENT
DTSTART;TZID=Europe/Helsinki:20230214T180000
DTEND;TZID=Europe/Helsinki:20230214T183000
DTSTAMP:20260422T192524
CREATED:20221229T113242Z
LAST-MODIFIED:20221229T113242Z
UID:943-1676397600-1676399400@antslakultuur.ee
SUMMARY:Vallavillak
DESCRIPTION:Meelelahutuslik mälumäng\, mis on mõeldud kõigile ja sobib kõigile. Vallavillak jätkub ka 2023 aastal. Ikka teisipäeviti ja ikka üle nädala. Tule üksi või koos meeskonnaga ja pane oma teadmised proovile. Kui sa kõiki vastuseid ei tea\, siis võid kindel olla\, et pärast mängu lõppu oled kindlasti targem kui enne.
URL:https://antslakultuur.ee/event/vallavillak-10/
LOCATION:Antsla Kultuurikeskus\, Kooli tee 19\, Antsla\, Võrumaa\, 66403\, Eesti
ATTACH;FMTTYPE=image/jpeg:https://antslakultuur.ee/wp-content/uploads/2022/12/Vallavillak_A3_jaan-veebr23_A3-01.jpg
ORGANIZER;CN="Antsla Kultuurikeskus":MAILTO:kultuur@antsla.ee
END:VEVENT
BEGIN:VEVENT
DTSTART;TZID=Europe/Helsinki:20230217T200000
DTEND;TZID=Europe/Helsinki:20230217T223000
DTSTAMP:20260422T192524
CREATED:20230116T124207Z
LAST-MODIFIED:20230116T124207Z
UID:970-1676664000-1676673000@antslakultuur.ee
SUMMARY:Antsla acoustic: Jaan Pehk
DESCRIPTION:2023 aasta esimene Antsla acoustic toimub 17 veebruar kell 20 Antslas\, pubis Stefan.\nPeaesinejaks on seekord Jaan Pehk.\nEnne peaesinejat astub lavale kohalik muusik Rolf Saarna. \nUksed avame kell 19:30\nRolf Saarna astub lavale kell 20\nJaan Pehk kell 21 \nPilet eelmüügist 10.- https://fienta.com/et/antsla-acoustic-jaan-pehk\nKohapeal pileti hind 15.-
URL:https://antslakultuur.ee/event/antsla-acoustic-jaan-pehk/
LOCATION:Antsla pubi Stefan\, Jaani 6\, Antsla\, 66403\, Eesti
ATTACH;FMTTYPE=application/pdf:https://antslakultuur.ee/wp-content/uploads/2023/01/Jaan-Pehk-02-2023_A3.pdf
ORGANIZER;CN="Antsla Kultuurikeskus":MAILTO:kultuur@antsla.ee
END:VEVENT
BEGIN:VEVENT
DTSTART;TZID=Europe/Helsinki:20230223T180000
DTEND;TZID=Europe/Helsinki:20230223T193000
DTSTAMP:20260422T192524
CREATED:20230209T113628Z
LAST-MODIFIED:20230209T113628Z
UID:984-1677175200-1677180600@antslakultuur.ee
SUMMARY:Eesti Vabariik 105
DESCRIPTION:Eesti Vabariigi sünnipäevale pühendatud kontsert-aktus. \nAntsla valla tunnustuste üleandmine. \nTASUTA.
URL:https://antslakultuur.ee/event/eesti-vabariik-105/
LOCATION:Antsla Kultuurikeskus\, Kooli tee 19\, Antsla\, Võrumaa\, 66403\, Eesti
ATTACH;FMTTYPE=image/jpeg:https://antslakultuur.ee/wp-content/uploads/2023/02/ev105_plakat_VEEB.jpg
END:VEVENT
BEGIN:VEVENT
DTSTART;TZID=Europe/Helsinki:20230228T180000
DTEND;TZID=Europe/Helsinki:20230228T183000
DTSTAMP:20260422T192524
CREATED:20221229T113447Z
LAST-MODIFIED:20221229T113447Z
UID:945-1677607200-1677609000@antslakultuur.ee
SUMMARY:Vallavillak
DESCRIPTION:Meelelahutuslik mälumäng\, mis on mõeldud kõigile ja sobib kõigile. Vallavillak jätkub ka 2023 aastal. Ikka teisipäeviti ja ikka üle nädala. Tule üksi või koos meeskonnaga ja pane oma teadmised proovile. Kui sa kõiki vastuseid ei tea\, siis võid kindel olla\, et pärast mängu lõppu oled kindlasti targem kui enne.
URL:https://antslakultuur.ee/event/vallavillak-11/
LOCATION:Antsla Kultuurikeskus\, Kooli tee 19\, Antsla\, Võrumaa\, 66403\, Eesti
ATTACH;FMTTYPE=image/jpeg:https://antslakultuur.ee/wp-content/uploads/2022/12/Vallavillak_A3_jaan-veebr23_A3-01.jpg
ORGANIZER;CN="Antsla Kultuurikeskus":MAILTO:kultuur@antsla.ee
END:VEVENT
END:VCALENDAR